Workbook
Name _ftn1: Maps!$A$69
Name _ftn1: 'Summary IMD 2015'!#REF!
Name _ftnref1: Maps!$A$61
Name _ftnref1: 'Summary IMD 2015'!$A$21

Sheet Summary IMD 2015
A1: Index of Multiple Deprivation 2015 Summary: Camden
A2: Published by Department for Communities and Local Government on 30 September 2015. © DCLG, 2015
B3: IMD 2015 | D3: IMD 2010
A4: District summary | B4: IMD 2015 Rank in England (of 326 districts) | C4: % Most Deprived Districts in England | D4: IMD 2010 Rank in England (of 326 districts) | E4: % Most Deprived Districts in England | F4: IMD 2015 compared with IMD 2010
F5: Change in rank places
A6: Rank of Average Rank | B6: 69 | C6: =B6/326 -> 0.21165644 | D6: 55 | E6: =D6/326 -> 0.16871166 | F6: =D6-B6 -> -14 | G6: =IF(F6<0,"Less deprived","More deprived") -> Less deprived
A7: Rank of Average Score | B7: 84 | C7: =B7/326 -> 0.25766871 | D7: 74 | E7: =D7/326 -> 0.22699387 | F7: =D7-B7 -> -10 | G7: =IF(F7<0,"Less deprived","More deprived") -> Less deprived
A8: Rank of proportion of LSOAs in most deprived 10% nationally | B8: 131 | C8: =B8/326 -> 0.40184049 | D8: - | E8: -
A9: Extent | B9: 80 | C9: =B9/326 -> 0.24539877 | D9: 81 | E9: =D9/326 -> 0.24846626 | F9: =D9-B9 -> 1 | G9: =IF(F9<0,"Less deprived","More deprived") -> More deprived
A10: Local Concentration | B10: 131 | C10: =B10/326 -> 0.40184049 | D10: 143 | E10: =D10/326 -> 0.43865031 | F10: =D10-B10 -> 12 | G10: =IF(F10<0,"Less deprived","More deprived") -> More deprived
A12: Local Authority District Summary Measures
A13: q LA summary measures overview: Camden has seen a mixed change since 2010, i.e. less deprived by some measures and more depived in others.
A14: q Camden does not fall within the 20% most deprived districts in England on any of the five summary measures.
A15: q Camden is most deprived on the average rank scale where the borough ranks 69th out of 326 English districts.
A16: q Compared with IMD 2010, Camden is shown as less deprived on two of the summary measures in IMD 2015: average rank and average score.
A17: q Compared with IMD 2010, Camden is shown as more deprived on two of the summary measures in IMD 2015: extent and local concentration.
A19: Camden LSOA-level Summary
A20: q Camden has 133 Lower-level Super Output Areas (LSOAs). These have not changed and are comparable with 2010.
A21: q 7 LSOAs in Camden now fall within the 10% most deprived LSOAs in England (compared to 3 in 2010):
A22: The most deprived LSOAs in Camden are:
A23: LSOA | B23: Ward | D23: Rank in Eng | E23: Most deprived (%)
A24: E01000891 | B24: Gospel Oak | D24: 1468 | E24: 4.4696139
A25: E01000890 | B25: Gospel Oak | D25: 1735 | E25: 5.2825478
A26: E01000953 | B26: St Pancras and Somers Town | D26: 2502 | E26: 7.6178297
A27: E01000868 | B27: Cantelowes | D27: 2826 | E27: 8.6043113
A28: E01000858 | B28: Camden Town with Primrose Hill | D28: 2960 | E28: 9.0123006
A29: E01000917 | B29: Holborn and Covent Garden | D29: 3168 | E29: 9.6455974
A30: E01000939 | B30: King's Cross | D30: 3200 | E30: 9.7430276
A31: q Over a quarter of Camden LSOAs (36) fall within the 20% most deprived LSOAs in England
A32: q 55 Camden LSOAs fall within the 30% most deprived LSOAs in England.
A33: q The Living Enviroment domain has 65 LSOAs which fall within the 10% most deprived in England - nearly half of all Camden LSOAs (49%).
A34: q Camden does relatively well on the Education, Training & Skills domain, where only 7 LSOAs fall within the 30% most deprived LSOAs in England.

Sheet Camden LSOAs by ward 2015
A1: Indices of Deprivation 2015 | E1: 1=most deprived
A2: © Department for Communities & Local Government, 30 September 2015
H3: 1 | I3: 2 | K3: 3 | M3: 4 | N3: 5 | O3: 6 | P3: 7 | Q3: 8 | R3: 9 | S3: 10 | T3: 11 | U3: 12 | V3: 13 | W3: 14 | X3: 15 | Y3: 16 | Z3: 17 | AA3: 18 | AB3: 19 | AC3: 20 | AD3: 21
A4: In ward and LSOA sequence | H4: Index of Multiple Deprivation (IMD) | M4: INCOME | O4: EMPLOYMENT | Q4: HEALTH DEPRIVATION AND DISABILITY | R4: HEALTH DEPRIVATION AND DISABILITY | S4: EDUCATION SKILLS AND TRAINING | U4: BARRIERS TO HOUSING & SERVICES | W4: CRIME AND DISORDER | Y4: LIVING ENVIRONMENT | AA4: Income Deprivation Affecting Children | AC4: Income Deprivation Affecting Older People
H5: Rank in Camden (/133) | K5: RANK OF IMD of all LSOAs in England (/32,844) | M5: RANK | O5: RANK | Q5: RANK | S5: RANK | U5: RANK | W5: RANK | Y5: RANK | AA5: IDACI RANK | AC5: IDAOPI RANK
A6: LSOA code | B6: WARD CODE | C6: WARD NAME | D6: LA CODE | E6: LA NAME | F6: GOR CODE | G6: GOR NAME | I6: IMD SCORE | J6: IMD Average of Scores for wards | K6: 1 is most deprived | L6: % Most Deprived of LSOAs in England | M6: INCOME SCORE | N6: 1 is most deprived | O6: EMPLOYMENT SCORE | P6: 1 is most deprived | Q6: HEALTH etc SCORE | R6: 1 is most deprived | S6: EDUCATION, SKILLS & TRAINING SCORE | T6: 1 is most deprived | U6: BARRIERS etc SCORE | V6: 1 is most deprived | W6: CRIME etc SCORE | X6: 1 is most deprived | Y6: LIVING ENV SCORE | Z6: 1 is most deprived | AA6: IDACI score | AB6: 1 is most deprived | AC6: IDAOPI score | AD6: 1 is most deprived
A7: E01000842 | B7: 00AGGD | C7: Belsize | D7: 00AG | E7: Camden | F7: H | G7: London | H7: =RANK(K7,$K$7:$K$139,1) -> 108 | I7: 12.385 | J7: 15.544625 | K7: 21358 | L7: =K7/32844*100 -> 65.02862 | M7: 0.064 | N7: 24713 | O7: 0.057 | P7: 25891 | Q7: -1.225 | R7: 30179 | S7: 9.414 | T7: 22443 | U7: 17.794 | V7: 19565 | W7: 0.138 | X7: 14404 | Y7: 50.717 | Z7: 2137 | AA7: 0.076 | AB7: 24471 | AC7: 0.121 | AD7: 19723
A8: E01000843 | B8: 00AGGD | C8: Belsize | D8: 00AG | E8: Camden | F8: H | G8: London | H8: =RANK(K8,$K$7:$K$139,1) -> 85 | I8: 17.982 | K8: 15915 | L8: =K8/32844*100 -> 48.456339 | M8: 0.161 | N8: 11383 | O8: 0.074 | P8: 21407 | Q8: -0.623 | R8: 24784 | S8: 10.533 | T8: 21342 | U8: 20.708 | V8: 15905 | W8: -0.027 | X8: 16990 | Y8: 49.91 | Z8: 2288 | AA8: 0.283 | AB8: 7513 | AC8: 0.143 | AD8: 17177
A9: E01000844 | B9: 00AGGD | C9: Belsize | D9: 00AG | E9: Camden | F9: H | G9: London | H9: =RANK(K9,$K$7:$K$139,1) -> 100 | I9: 14.546 | K9: 19087 | L9: =K9/32844*100 -> 58.114115 | M9: 0.059 | N9: 25807 | O9: 0.057 | P9: 25996 | Q9: -0.697 | R9: 25678 | S9: 11.846 | T9: 20151 | U9: 18.695 | V9: 18436 | W9: -0.083 | X9: 17816 | Y9: 62.548 | Z9: 627 | AA9: 0.027 | AB9: 31632 | AC9: 0.168 | AD9: 14625
A10: E01000845 | B10: 00AGGD | C10: Belsize | D10: 00AG | E10: Camden | F10: H | G10: London | H10: =RANK(K10,$K$7:$K$139,1) -> 107 | I10: 12.53 | K10: 21173 | L10: =K10/32844*100 -> 64.465351 | M10: 0.092 | N10: 19616 | O10: 0.05 | P10: 27758 | Q10: -0.599 | R10: 24495 | S10: 6.152 | T10: 26050 | U10: 14.367 | V10: 23828 | W10: 0.561 | X10: 8197 | Y10: 39.116 | Z10: 4997 | AA10: 0.161 | AB10: 15331 | AC10: 0.157 | AD10: 15656
A11: E01000846 | B11: 00AGGD | C11: Belsize | D11: 00AG | E11: Camden | F11: H | G11: London | H11: =RANK(K11,$K$7:$K$139,1) -> 58 | I11: 26.586 | K11: 9951 | L11: =K11/32844*100 -> 30.297771 | M11: 0.24 | N11: 6007 | O11: 0.164 | P11: 7699 | Q11: 0.091 | R11: 14787 | S11: 6.66 | T11: 25442 | U11: 25.541 | V11: 10468 | W11: 0.255 | X11: 12617 | Y11: 33.737 | Z11: 7062 | AA11: 0.329 | AB11: 5419 | AC11: 0.267 | AD11: 7455
A12: E01000847 | B12: 00AGGD | C12: Belsize | D12: 00AG | E12: Camden | F12: H | G12: London | H12: =RANK(K12,$K$7:$K$139,1) -> 79 | I12: 19.594 | K12: 14584 | L12: =K12/32844*100 -> 44.403848 | M12: 0.202 | N12: 8219 | O12: 0.115 | P12: 13346 | Q12: -0.452 | R12: 22626 | S12: 6.774 | T12: 25327 | U12: 20.273 | V12: 16442 | W12: -0.089 | X12: 17898 | Y12: 35.43 | Z12: 6376 | AA12: 0.295 | AB12: 6917 | AC12: 0.24 | AD12: 8981
A13: E01000848 | B13: 00AGGD | C13: Belsize | D13: 00AG | E13: Camden | F13: H | G13: London | H13: =RANK(K13,$K$7:$K$139,1) -> 117 | I13: 9.708 | K13: 24561 | L13: =K13/32844*100 -> 74.780782 | M13: 0.055 | N13: 26724 | O13: 0.042 | P13: 29823 | Q13: -1.175 | R13: 29827 | S13: 5.403 | T13: 26890 | U13: 13.001 | V13: 25467 | W13: 0.561 | X13: 8200 | Y13: 38.75 | Z13: 5116 | AA13: 0.026 | AB13: 31773 | AC13: 0.156 | AD13: 15810
A14: E01000849 | B14: 00AGGD | C14: Belsize | D14: 00AG | E14: Camden | F14: H | G14: London | H14: =RANK(K14,$K$7:$K$139,1) -> 112 | I14: 11.026 | K14: 22980 | L14: =K14/32844*100 -> 69.967117 | M14: 0.057 | N14: 26404 | O14: 0.038 | P14: 30583 | Q14: -0.969 | R14: 28309 | S14: 7.317 | T14: 24713 | U14: 16.894 | V14: 20657 | W14: -0.208 | X14: 19714 | Y14: 55.225 | Z14: 1427 | AA14: 0.088 | AB14: 22773 | AC14: 0.12 | AD14: 19842
A15: E01000850 | B15: 00AGGE | C15: Bloomsbury | D15: 00AG | E15: Camden | F15: H | G15: London | H15: =RANK(K15,$K$7:$K$139,1) -> 84 | I15: 18.112 | J15: 21.0795 | K15: 15786 | L15: =K15/32844*100 -> 48.063573 | M15: 0.069 | N15: 23813 | O15: 0.04 | P15: 30222 | Q15: -0.746 | R15: 26178 | S15: 7.768 | T15: 24203 | U15: 25.48 | V15: 10530 | W15: 0.568 | X15: 8082 | Y15: 79.817 | Z15: 37 | AA15: 0.238 | AB15: 9942 | AC15: 0.203 | AD15: 11645
A16: E01000851 | B16: 00AGGE | C16: Bloomsbury | D16: 00AG | E16: Camden | F16: H | G16: London | H16: =RANK(K16,$K$7:$K$139,1) -> 97 | I16: 15.249 | K16: 18390 | L16: =K16/32844*100 -> 55.991962 | M16: 0.046 | N16: 28785 | O16: 0.036 | P16: 30903 | Q16: -1.204 | R16: 30016 | S16: 3.602 | T16: 29067 | U16: 28.111 | V16: 8260 | W16: 0.103 | X16: 14952 | Y16: 78.996 | Z16: 45 | AA16: 0.065 | AB16: 26058 | AC16: 0.175 | AD16: 13951
A17: E01000852 | B17: 00AGGE | C17: Bloomsbury | D17: 00AG | E17: Camden | F17: H | G17: London | H17: =RANK(K17,$K$7:$K$139,1) -> 80 | I17: 19.244 | K17: 14834 | L17: =K17/32844*100 -> 45.165023 | M17: 0.075 | N17: 22528 | O17: 0.064 | P17: 24028 | Q17: 0.247 | R17: 12605 | S17: 2.91 | T17: 29908 | U17: 25.739 | V17: 10275 | W17: 0.543 | X17: 8429 | Y17: 62.041 | Z17: 679 | AA17: 0.153 | AB17: 15983 | AC17: 0.204 | AD17: 11546
A18: E01000853 | B18: 00AGGE | C18: Bloomsbury | D18: 00AG | E18: Camden | F18: H | G18: London | H18: =RANK(K18,$K$7:$K$139,1) -> 29 | I18: 36.001 | K18: 5767 | L18: =K18/32844*100 -> 17.558763 | M18: 0.255 | N18: 5231 | O18: 0.2 | P18: 5038 | Q18: 0.507 | R18: 9324 | S18: 16.217 | T18: 16473 | U18: 30.422 | V18: 6521 | W18: 0.314 | X18: 11702 | Y18: 54.548 | Z18: 1522 | AA18: 0.223 | AB18: 10881 | AC18: 0.359 | AD18: 3597
A19: E01000854 | B19: 00AGGE | C19: Bloomsbury | D19: 00AG | E19: Camden | F19: H | G19: London | H19: =RANK(K19,$K$7:$K$139,1) -> 75 | I19: 20.424 | K19: 13893 | L19: =K19/32844*100 -> 42.299963 | M19: 0.118 | N19: 15888 | O19: 0.082 | P19: 19370 | Q19: 0.031 | R19: 15664 | S19: 6.733 | T19: 25365 | U19: 31.518 | V19: 5828 | W19: -0.18 | X19: 19284 | Y19: 56.159 | Z19: 1312 | AA19: 0.106 | AB19: 20573 | AC19: 0.389 | AD19: 2703
A20: E01000855 | B20: 00AGGE | C20: Bloomsbury | D20: 00AG | E20: Camden | F20: H | G20: London | H20: =RANK(K20,$K$7:$K$139,1) -> 87 | I20: 17.447 | K20: 16377 | L20: =K20/32844*100 -> 49.862989 | M20: 0.062 | N20: 25212 | O20: 0.051 | P20: 27661 | Q20: -0.758 | R20: 26301 | S20: 1.769 | T20: 31228 | U20: 28.079 | V20: 8288 | W20: 0.562 | X20: 8169 | Y20: 71.665 | Z20: 160 | AA20: 0.247 | AB20: 9436 | AC20: 0.079 | AD20: 26183
A21: E01000856 | B21: 00AGGF | C21: Camden Town with Primrose Hill | D21: 00AG | E21: Camden | F21: H | G21: London | H21: =RANK(K21,$K$7:$K$139,1) -> 20 | I21: 38.874 | J21: 27.355125 | K21: 4833 | L21: =K21/32844*100 -> 14.715016 | M21: 0.266 | N21: 4747 | O21: 0.167 | P21: 7428 | Q21: 0.879 | R21: 5388 | S21: 12.146 | T21: 19883 | U21: 26.223 | V21: 9835 | W21: 1.605 | X21: 525 | Y21: 45.396 | Z21: 3240 | AA21: 0.392 | AB21: 3088 | AC21: 0.356 | AD21: 3689
A22: E01000857 | B22: 00AGGF | C22: Camden Town with Primrose Hill | D22: 00AG | E22: Camden | F22: H | G22: London | H22: =RANK(K22,$K$7:$K$139,1) -> 95 | I22: 16.197 | K22: 17464 | L22: =K22/32844*100 -> 53.172573 | M22: 0.156 | N22: 11847 | O22: 0.1 | P22: 15754 | Q22: -0.188 | R22: 18940 | S22: 2.214 | T22: 30724 | U22: 13.943 | V22: 24372 | W22: -0.059 | X22: 17470 | Y22: 36.015 | Z22: 6148 | AA22: 0.177 | AB22: 13956 | AC22: 0.216 | AD22: 10660
A23: E01000858 | B23: 00AGGF | C23: Camden Town with Primrose Hill | D23: 00AG | E23: Camden | F23: H | G23: London | H23: =RANK(K23,$K$7:$K$139,1) -> 5 | I23: 46.086 | K23: 2960 | L23: =K23/32844*100 -> 9.0123006 | M23: 0.35 | N23: 1758 | O23: 0.223 | P23: 3685 | Q23: 0.601 | R23: 8245 | S23: 13.528 | T23: 18609 | U23: 29.409 | V23: 7235 | W23: 2.117 | X23: 63 | Y23: 33.122 | Z23: 7305 | AA23: 0.557 | AB23: 313 | AC23: 0.468 | AD23: 1185
A24: E01000859 | B24: 00AGGF | C24: Camden Town with Primrose Hill | D24: 00AG | E24: Camden | F24: H | G24: London | H24: =RANK(K24,$K$7:$K$139,1) -> 116 | I24: 10.067 | K24: 24133 | L24: =K24/32844*100 -> 73.477652 | M24: 0.063 | N24: 25053 | O24: 0.056 | P24: 26305 | Q24: -1.216 | R24: 30115 | S24: 1.523 | T24: 31500 | U24: 13.634 | V24: 24739 | W24: 0.137 | X24: 14418 | Y24: 46.237 | Z24: 3038 | AA24: 0.061 | AB24: 26752 | AC24: 0.117 | AD24: 20269
A25: E01000860 | B25: 00AGGF | C25: Camden Town with Primrose Hill | D25: 00AG | E25: Camden | F25: H | G25: London | H25: =RANK(K25,$K$7:$K$139,1) -> 71 | I25: 21.823 | K25: 12856 | L25: =K25/32844*100 -> 39.142614 | M25: 0.174 | N25: 10238 | O25: 0.107 | P25: 14557 | Q25: -0.045 | R25: 16770 | S25: 6.011 | T25: 26193 | U25: 24.196 | V25: 11863 | W25: 0.527 | X25: 8653 | Y25: 41.291 | Z25: 4331 | AA25: 0.088 | AB25: 22819 | AC25: 0.363 | AD25: 3468
A26: E01000861 | B26: 00AGGF | C26: Camden Town with Primrose Hill | D26: 00AG | E26: Camden | F26: H | G26: London | H26: =RANK(K26,$K$7:$K$139,1) -> 31 | I26: 35.375 | K26: 6012 | L26: =K26/32844*100 -> 18.304713 | M26: 0.198 | N26: 8482 | O26: 0.139 | P26: 10186 | Q26: 0.273 | R26: 12260 | S26: 7.207 | T26: 24822 | U26: 24.257 | V26: 11802 | W26: 1.666 | X26: 430 | Y26: 73.897 | Z26: 106 | AA26: 0.347 | AB26: 4664 | AC26: 0.316 | AD26: 5172
A27: E01000862 | B27: 00AGGF | C27: Camden Town with Primrose Hill | D27: 00AG | E27: Camden | F27: H | G27: London | H27: =RANK(K27,$K$7:$K$139,1) -> 106 | I27: 12.982 | K27: 20692 | L27: =K27/32844*100 -> 63.000853 | M27: 0.065 | N27: 24613 | O27: 0.052 | P27: 27430 | Q27: -1.001 | R27: 28562 | S27: 0.694 | T27: 32389 | U27: 12.935 | V27: 25540 | W27: 1.061 | X27: 2914 | Y27: 45.093 | Z27: 3309 | AA27: 0.085 | AB27: 23126 | AC27: 0.109 | AD27: 21458
A28: E01000863 | B28: 00AGGF | C28: Camden Town with Primrose Hill | D28: 00AG | E28: Camden | F28: H | G28: London | H28: =RANK(K28,$K$7:$K$139,1) -> 26 | I28: 37.437 | K28: 5313 | L28: =K28/32844*100 -> 16.176471 | M28: 0.195 | N28: 8666 | O28: 0.15 | P28: 9050 | Q28: 0.779 | R28: 6304 | S28: 16.178 | T28: 16507 | U28: 23.083 | V28: 13099 | W28: 1.631 | X28: 476 | Y28: 63.472 | Z28: 553 | AA28: 0.283 | AB28: 7499 | AC28: 0.3 | AD28: 5887
A29: E01000864 | B29: 00AGGG | C29: Cantelowes | D29: 00AG | E29: Camden | F29: H | G29: London | H29: =RANK(K29,$K$7:$K$139,1) -> 63 | I29: 25.388 | J29: 31.808 | K29: 10648 | L29: =K29/32844*100 -> 32.419924 | M29: 0.164 | N29: 11112 | O29: 0.117 | P29: 12959 | Q29: 0.233 | R29: 12781 | S29: 1.493 | T29: 31532 | U29: 22.215 | V29: 14104 | W29: 1.094 | X29: 2654 | Y29: 49.8 | Z29: 2307 | AA29: 0.257 | AB29: 8849 | AC29: 0.22 | AD29: 10346
A30: E01000865 | B30: 00AGGG | C30: Cantelowes | D30: 00AG | E30: Camden | F30: H | G30: London | H30: =RANK(K30,$K$7:$K$139,1) -> 89 | I30: 17.133 | K30: 16639 | L30: =K30/32844*100 -> 50.660699 | M30: 0.081 | N30: 21469 | O30: 0.067 | P30: 23171 | Q30: -0.388 | R30: 21749 | S30: 3.06 | T30: 29720 | U30: 22.746 | V30: 13471 | W30: 1.273 | X30: 1577 | Y30: 38.106 | Z30: 5335 | AA30: 0.119 | AB30: 19106 | AC30: 0.152 | AD30: 16239
A31: E01000866 | B31: 00AGGG | C31: Cantelowes | D31: 00AG | E31: Camden | F31: H | G31: London | H31: =RANK(K31,$K$7:$K$139,1) -> 44 | I31: 31.315 | K31: 7609 | L31: =K31/32844*100 -> 23.167093 | M31: 0.201 | N31: 8253 | O31: 0.157 | P31: 8344 | Q31: 0.368 | R31: 11004 | S31: 4.806 | T31: 27592 | U31: 22.29 | V31: 14019 | W31: 1.079 | X31: 2770 | Y31: 59.347 | Z31: 943 | AA31: 0.264 | AB31: 8487 | AC31: 0.26 | AD31: 7818
A32: E01000867 | B32: 00AGGG | C32: Cantelowes | D32: 00AG | E32: Camden | F32: H | G32: London | H32: =RANK(K32,$K$7:$K$139,1) -> 15 | I32: 40.03 | K32: 4491 | L32: =K32/32844*100 -> 13.67373 | M32: 0.294 | N32: 3574 | O32: 0.184 | P32: 6074 | Q32: 0.866 | R32: 5501 | S32: 22.727 | T32: 12065 | U32: 29.275 | V32: 7335 | W32: 0.712 | X32: 6280 | Y32: 52.032 | Z32: 1899 | AA32: 0.408 | AB32: 2618 | AC32: 0.455 | AD32: 1390
A33: E01000868 | B33: 00AGGG | C33: Cantelowes | D33: 00AG | E33: Camden | F33: H | G33: London | H33: =RANK(K33,$K$7:$K$139,1) -> 4 | I33: 46.793 | K33: 2826 | L33: =K33/32844*100 -> 8.6043113 | M33: 0.286 | N33: 3884 | O33: 0.235 | P33: 3084 | Q33: 0.714 | R33: 6973 | S33: 25.752 | T33: 10481 | U33: 39.462 | V33: 2268 | W33: 1.305 | X33: 1428 | Y33: 46.867 | Z33: 2921 | AA33: 0.245 | AB33: 9541 | AC33: 0.49 | AD33: 925
A34: E01000869 | B34: 00AGGG | C34: Cantelowes | D34: 00AG | E34: Camden | F34: H | G34: London | H34: =RANK(K34,$K$7:$K$139,1) -> 56 | I34: 26.731 | K34: 9869 | L34: =K34/32844*100 -> 30.048106 | M34: 0.18 | N34: 9744 | O34: 0.118 | P34: 12946 | Q34: 0.774 | R34: 6349 | S34: 8.888 | T34: 22996 | U34: 20.652 | V34: 15971 | W34: 0.612 | X34: 7509 | Y34: 49.331 | Z34: 2398 | AA34: 0.309 | AB34: 6239 | AC34: 0.294 | AD34: 6136
A35: E01000870 | B35: 00AGGG | C35: Cantelowes | D35: 00AG | E35: Camden | F35: H | G35: London | H35: =RANK(K35,$K$7:$K$139,1) -> 32 | I35: 35.266 | K35: 6040 | L35: =K35/32844*100 -> 18.389965 | M35: 0.25 | N35: 5492 | O35: 0.185 | P35: 6026 | Q35: 0.666 | R35: 7502 | S35: 9.704 | T35: 22157 | U35: 18.955 | V35: 18118 | W35: 1.09 | X35: 2689 | Y35: 53.373 | Z35: 1703 | AA35: 0.385 | AB35: 3322 | AC35: 0.359 | AD35: 3576
A36: E01000871 | B36: 00AGGH | C36: Fortune Green | D36: 00AG | E36: Camden | F36: H | G36: London | H36: =RANK(K36,$K$7:$K$139,1) -> 90 | I36: 17.105 | J36: 20.055286 | K36: 16657 | L36: =K36/32844*100 -> 50.715504 | M36: 0.131 | N36: 14418 | O36: 0.097 | P36: 16274 | Q36: -0.563 | R36: 24057 | S36: 3.235 | T36: 29520 | U36: 18.68 | V36: 18460 | W36: 0.938 | X36: 3941 | Y36: 27.856 | Z36: 9767 | AA36: 0.159 | AB36: 15524 | AC36: 0.156 | AD36: 15810
A37: E01000872 | B37: 00AGGH | C37: Fortune Green | D37: 00AG | E37: Camden | F37: H | G37: London | H37: =RANK(K37,$K$7:$K$139,1) -> 49 | I37: 29.02 | K37: 8689 | L37: =K37/32844*100 -> 26.455365 | M37: 0.175 | N37: 10159 | O37: 0.145 | P37: 9573 | Q37: 0.384 | R37: 10810 | S37: 8.784 | T37: 23119 | U37: 23.147 | V37: 13022 | W37: 0.771 | X37: 5571 | Y37: 59.379 | Z37: 937 | AA37: 0.311 | AB37: 6171 | AC37: 0.259 | AD37: 7907
A38: E01000873 | B38: 00AGGH | C38: Fortune Green | D38: 00AG | E38: Camden | F38: H | G38: London | H38: =RANK(K38,$K$7:$K$139,1) -> 113 | I38: 10.923 | K38: 23092 | L38: =K38/32844*100 -> 70.308123 | M38: 0.088 | N38: 20241 | O38: 0.058 | P38: 25579 | Q38: -0.917 | R38: 27856 | S38: 9.752 | T38: 22114 | U38: 11.914 | V38: 26703 | W38: -0.106 | X38: 18146 | Y38: 38.412 | Z38: 5235 | AA38: 0.128 | AB38: 18207 | AC38: 0.13 | AD38: 18569
A39: E01000874 | B39: 00AGGH | C39: Fortune Green | D39: 00AG | E39: Camden | F39: H | G39: London | H39: =RANK(K39,$K$7:$K$139,1) -> 125 | I39: 8.789 | K39: 25712 | L39: =K39/32844*100 -> 78.285227 | M39: 0.051 | N39: 27655 | O39: 0.039 | P39: 30441 | Q39: -1.215 | R39: 30110 | S39: 4.553 | T39: 27892 | U39: 10.416 | V39: 28350 | W39: -0.059 | X39: 17465 | Y39: 48.253 | Z39: 2609 | AA39: 0.072 | AB39: 25123 | AC39: 0.103 | AD39: 22287
A40: E01000875 | B40: 00AGGH | C40: Fortune Green | D40: 00AG | E40: Camden | F40: H | G40: London | H40: =RANK(K40,$K$7:$K$139,1) -> 62 | I40: 25.782 | K40: 10416 | L40: =K40/32844*100 -> 31.713555 | M40: 0.154 | N40: 12044 | O40: 0.126 | P40: 11799 | Q40: -0.068 | R40: 17146 | S40: 21.741 | T40: 12641 | U40: 22.246 | V40: 14065 | W40: 0.85 | X40: 4756 | Y40: 46.609 | Z40: 2958 | AA40: 0.275 | AB40: 7964 | AC40: 0.238 | AD40: 9150
...

Sheet Maps
A1: Map of IMD 2015 (with 2010, 2007 and 2004 shown beneath for comparison)

Sheet Ward Summary
A1: Indices of Deprivation 2015
A2: © Department for Communities & Local Government, 30 September 2015
A3: WARD NAME | B3: IMD 2015 Average of LSOA Scores | C3: IMD 2015 Rank in Camden | D3: No. of LSOAs within 10% most deprived LSOAs in England | E3: No. of LSOAs within 20% most deprived LSOAs in England | F3: IDACI 2015 Score | G3: IDACI 2015 Rank in Camden | H3: IDAOPI 2015 Score | I3: IDAOPI 2015 Rank in Camden
A4: Belsize | B4: 15.544625 | C4: =RANK(B4,B$4:B$21) -> 16 | D4: =COUNTIFS('Camden LSOAs by ward 2015'!$L$7:$L$14,"<10") -> 0 | E4: =COUNTIFS('Camden LSOAs by ward 2015'!$L$7:$L$14,"<20") -> 0 | F4: 0.160625 | G4: =RANK(F4,F$4:F$21) -> 16 | H4: 0.1715 | I4: =RANK(H4,H$4:H$21) -> 16
A5: Bloomsbury | B5: 21.0795 | C5: =RANK(B5,B$4:B$21) -> 13 | D5: =COUNTIFS('Camden LSOAs by ward 2015'!$L$15:$L$20,"<10") -> 0 | E5: =COUNTIFS('Camden LSOAs by ward 2015'!$L$15:$L$20,"<20") -> 1 | F5: 0.172 | G5: =RANK(F5,F$4:F$21) -> 15 | H5: 0.23483333 | I5: =RANK(H5,H$4:H$21) -> 12
A6: Camden Town with Primrose Hill | B6: 27.355125 | C6: =RANK(B6,B$4:B$21) -> 8 | D6: =COUNTIFS('Camden LSOAs by ward 2015'!$L$21:$L$28,"<10") -> 1 | E6: =COUNTIFS('Camden LSOAs by ward 2015'!$L$21:$L$28,"<20") -> 4 | F6: 0.24875 | G6: =RANK(F6,F$4:F$21) -> 11 | H6: 0.280625 | I6: =RANK(H6,H$4:H$21) -> 10
A7: Cantelowes | B7: 31.808 | C7: =RANK(B7,B$4:B$21) -> 3 | D7: =COUNTIFS('Camden LSOAs by ward 2015'!$L$29:$L$35,"<10") -> 1 | E7: =COUNTIFS('Camden LSOAs by ward 2015'!$L$29:$L$35,"<20") -> 3 | F7: 0.28385714 | G7: =RANK(F7,F$4:F$21) -> 7 | H7: 0.31857143 | I7: =RANK(H7,H$4:H$21) -> 5
A8: Fortune Green | B8: 20.055286 | C8: =RANK(B8,B$4:B$21) -> 14 | D8: =COUNTIFS('Camden LSOAs by ward 2015'!$L$36:$L$42,"<10") -> 0 | E8: =COUNTIFS('Camden LSOAs by ward 2015'!$L$36:$L$42,"<20") -> 1 | F8: 0.20885714 | G8: =RANK(F8,F$4:F$21) -> 13 | H8: 0.22014286 | I8: =RANK(H8,H$4:H$21) -> 13
A9: Frognal and Fitzjohns | B9: 10.04075 | C9: =RANK(B9,B$4:B$21) -> 17 | D9: =COUNTIFS('Camden LSOAs by ward 2015'!$L$43:$L$50,"<10") -> 0 | E9: =COUNTIFS('Camden LSOAs by ward 2015'!$L$43:$L$50,"<20") -> 0 | F9: 0.059375 | G9: =RANK(F9,F$4:F$21) -> 17 | H9: 0.109 | I9: =RANK(H9,H$4:H$21) -> 18
A10: Gospel Oak | B10: 30.728714 | C10: =RANK(B10,B$4:B$21) -> 5 | D10: =COUNTIFS('Camden LSOAs by ward 2015'!$L$51:$L$57,"<10") -> 2 | E10: =COUNTIFS('Camden LSOAs by ward 2015'!$L$51:$L$57,"<20") -> 3 | F10: 0.305 | G10: =RANK(F10,F$4:F$21) -> 5 | H10: 0.28714286 | I10: =RANK(H10,H$4:H$21) -> 9
A11: Hampstead Town | B11: 9.9602857 | C11: =RANK(B11,B$4:B$21) -> 18 | D11: =COUNTIFS('Camden LSOAs by ward 2015'!$L$58:$L$64,"<10") -> 0 | E11: =COUNTIFS('Camden LSOAs by ward 2015'!$L$58:$L$64,"<20") -> 0 | F11: 0.054428571 | G11: =RANK(F11,F$4:F$21) -> 18 | H11: 0.11471429 | I11: =RANK(H11,H$4:H$21) -> 17
A12: Haverstock | B12: 31.664714 | C12: =RANK(B12,B$4:B$21) -> 4 | D12: =COUNTIFS('Camden LSOAs by ward 2015'!$L$65:$L$71,"<10") -> 0 | E12: =COUNTIFS('Camden LSOAs by ward 2015'!$L$65:$L$71,"<20") -> 4 | F12: 0.35814286 | G12: =RANK(F12,F$4:F$21) -> 3 | H12: 0.33428571 | I12: =RANK(H12,H$4:H$21) -> 4
A13: Highgate | B13: 21.222429 | C13: =RANK(B13,B$4:B$21) -> 12 | D13: =COUNTIFS('Camden LSOAs by ward 2015'!$L$72:$L$78,"<10") -> 0 | E13: =COUNTIFS('Camden LSOAs by ward 2015'!$L$72:$L$78,"<20") -> 1 | F13: 0.21385714 | G13: =RANK(F13,F$4:F$21) -> 12 | H13: 0.18371429 | I13: =RANK(H13,H$4:H$21) -> 15
A14: Holborn and Covent Garden | B14: 26.946714 | C14: =RANK(B14,B$4:B$21) -> 9 | D14: =COUNTIFS('Camden LSOAs by ward 2015'!$L$79:$L$85,"<10") -> 1 | E14: =COUNTIFS('Camden LSOAs by ward 2015'!$L$79:$L$85,"<20") -> 1 | F14: 0.30357143 | G14: =RANK(F14,F$4:F$21) -> 6 | H14: 0.29385714 | I14: =RANK(H14,H$4:H$21) -> 8
A15: Kentish Town | B15: 25.83125 | C15: =RANK(B15,B$4:B$21) -> 10 | D15: =COUNTIFS('Camden LSOAs by ward 2015'!$L$86:$L$93,"<10") -> 0 | E15: =COUNTIFS('Camden LSOAs by ward 2015'!$L$86:$L$93,"<20") -> 1 | F15: 0.28175 | G15: =RANK(F15,F$4:F$21) -> 8 | H15: 0.298 | I15: =RANK(H15,H$4:H$21) -> 7
A16: Kilburn | B16: 36.078857 | C16: =RANK(B16,B$4:B$21) -> 2 | D16: =COUNTIFS('Camden LSOAs by ward 2015'!$L$94:$L$100,"<10") -> 0 | E16: =COUNTIFS('Camden LSOAs by ward 2015'!$L$94:$L$100,"<20") -> 4 | F16: 0.41971429 | G16: =RANK(F16,F$4:F$21) -> 2 | H16: 0.39457143 | I16: =RANK(H16,H$4:H$21) -> 2
A17: King's Cross | B17: 29.444875 | C17: =RANK(B17,B$4:B$21) -> 7 | D17: =COUNTIFS('Camden LSOAs by ward 2015'!$L$101:$L$108,"<10") -> 1 | E17: =COUNTIFS('Camden LSOAs by ward 2015'!$L$101:$L$108,"<20") -> 3 | F17: 0.265375 | G17: =RANK(F17,F$4:F$21) -> 10 | H17: 0.30825 | I17: =RANK(H17,H$4:H$21) -> 6
A18: Regent's Park | B18: 29.5155 | C18: =RANK(B18,B$4:B$21) -> 6 | D18: =COUNTIFS('Camden LSOAs by ward 2015'!$L$109:$L$116,"<10") -> 0 | E18: =COUNTIFS('Camden LSOAs by ward 2015'!$L$109:$L$116,"<20") -> 2 | F18: 0.342 | G18: =RANK(F18,F$4:F$21) -> 4 | H18: 0.384375 | I18: =RANK(H18,H$4:H$21) -> 3
A19: St Pancras and Somers Town | B19: 38.751 | C19: =RANK(B19,B$4:B$21) -> 1 | D19: =COUNTIFS('Camden LSOAs by ward 2015'!$L$117:$L$124,"<10") -> 1 | E19: =COUNTIFS('Camden LSOAs by ward 2015'!$L$117:$L$124,"<20") -> 7 | F19: 0.433 | G19: =RANK(F19,F$4:F$21) -> 1 | H19: 0.411375 | I19: =RANK(H19,H$4:H$21) -> 1
A20: Swiss Cottage | B20: 16.8735 | C20: =RANK(B20,B$4:B$21) -> 15 | D20: =COUNTIFS('Camden LSOAs by ward 2015'!$L$125:$L$132,"<10") -> 0 | E20: =COUNTIFS('Camden LSOAs by ward 2015'!$L$125:$L$132,"<20") -> 0 | F20: 0.18725 | G20: =RANK(F20,F$4:F$21) -> 14 | H20: 0.184875 | I20: =RANK(H20,H$4:H$21) -> 14
A21: West Hampstead | B21: 21.646286 | C21: =RANK(B21,B$4:B$21) -> 11 | D21: =COUNTIFS('Camden LSOAs by ward 2015'!$L$133:$L$139,"<10") -> 0 | E21: =COUNTIFS('Camden LSOAs by ward 2015'!$L$133:$L$139,"<20") -> 1 | F21: 0.26842857 | G21: =RANK(F21,F$4:F$21) -> 9 | H21: 0.25885714 | I21: =RANK(H21,H$4:H$21) -> 11
A22: LB Camden | B22: =AVERAGE('Camden LSOAs by ward 2015'!I7:I139) -> 24.692549 | D22: =SUM(D4:D21) -> 7 | E22: =SUM(E4:E21) -> 36
A24: Notes
A25: IMD = Index of Multiple Deprivation 2015
A26: IDACI = Income Deprivation Affecting Children Index
A27: IDAOPI = Income Deprivation Affecting Older People Index

Sheet Deciles
A1: Deciles for ranks
A3: 10 | B3: =A3/100*$B$12 -> 3284.4
A4: 20 | B4: =A4/100*$B$12 -> 6568.8
A5: 30 | B5: =A5/100*$B$12 -> 9853.2
A6: 40 | B6: =A6/100*$B$12 -> 13137.6
A7: 50 | B7: =A7/100*$B$12 -> 16422
A8: 60 | B8: =A8/100*$B$12 -> 19706.4
A9: 70 | B9: =A9/100*$B$12 -> 22990.8
A10: 80 | B10: =A10/100*$B$12 -> 26275.2
A11: 90 | B11: =A11/100*$B$12 -> 29559.6
A12: 100 | B12: 32844
