Workbook
Name _ftn1: Maps!$A$69
Name _ftn1: 'Summary IMD 2015'!#REF!
Name _ftnref1: Maps!$A$61
Name _ftnref1: 'Summary IMD 2015'!$A$21

Sheet Summary IMD 2015
A1: Index of Multiple Deprivation 2015 Summary: Camden
A2: Published by Department for Communities and Local Government on 30 September 2015. © DCLG, 2015
B3: IMD 2015 | D3: IMD 2010
A4: District summary | B4: IMD 2015 Rank in England (of 326 districts) | C4: % Most Deprived Districts in England | D4: IMD 2010 Rank in England (of 326 districts) | E4: % Most Deprived Districts in England | F4: IMD 2015 compared with IMD 2010
F5: Change in rank places
A6: Rank of Average Rank | B6: 69 | C6: =B6/326 -> 0.21165644 | D6: 55 | E6: =D6/326 -> 0.16871166 | F6: =D6-B6 -> -14 | G6: =IF(F6<0,"Less deprived","More deprived") -> Less deprived
A7: Rank of Average Score | B7: 84 | C7: =B7/326 -> 0.25766871 | D7: 74 | E7: =D7/326 -> 0.22699387 | F7: =D7-B7 -> -10 | G7: =IF(F7<0,"Less deprived","More deprived") -> Less deprived
A8: Rank of proportion of LSOAs in most deprived 10% nationally | B8: 131 | C8: =B8/326 -> 0.40184049 | D8: - | E8: -
A9: Extent | B9: 80 | C9: =B9/326 -> 0.24539877 | D9: 81 | E9: =D9/326 -> 0.24846626 | F9: =D9-B9 -> 1 | G9: =IF(F9<0,"Less deprived","More deprived") -> More deprived
A10: Local Concentration | B10: 131 | C10: =B10/326 -> 0.40184049 | D10: 143 | E10: =D10/326 -> 0.43865031 | F10: =D10-B10 -> 12 | G10: =IF(F10<0,"Less deprived","More deprived") -> More deprived
A12: Local Authority District Summary Measures
A13: q LA summary measures overview: Camden has seen a mixed change since 2010, i.e. less deprived by some measures and more depived in others.
A14: q Camden does not fall within the 20% most deprived districts in England on any of the five summary measures.
A15: q Camden is most deprived on the average rank scale where the borough ranks 69th out of 326 English districts.
A16: q Compared with IMD 2010, Camden is shown as less deprived on two of the summary measures in IMD 2015: average rank and average score.
A17: q Compared with IMD 2010, Camden is shown as more deprived on two of the summary measures in IMD 2015: extent and local concentration.
A19: Camden LSOA-level Summary
A20: q Camden has 133 Lower-level Super Output Areas (LSOAs). These have not changed and are comparable with 2010.
A21: q 7 LSOAs in Camden now fall within the 10% most deprived LSOAs in England (compared to 3 in 2010):
A22: The most deprived LSOAs in Camden are:
A23: LSOA | B23: Ward | D23: Rank in Eng | E23: Most deprived (%)
A24: E01000891 | B24: Gospel Oak | D24: 1468 | E24: 4.4696139
A25: E01000890 | B25: Gospel Oak | D25: 1735 | E25: 5.2825478
A26: E01000953 | B26: St Pancras and Somers Town | D26: 2502 | E26: 7.6178297
A27: E01000868 | B27: Cantelowes | D27: 2826 | E27: 8.6043113
A28: E01000858 | B28: Camden Town with Primrose Hill | D28: 2960 | E28: 9.0123006
A29: E01000917 | B29: Holborn and Covent Garden | D29: 3168 | E29: 9.6455974
A30: E01000939 | B30: King's Cross | D30: 3200 | E30: 9.7430276
A31: q Over a quarter of Camden LSOAs (36) fall within the 20% most deprived LSOAs in England
A32: q 55 Camden LSOAs fall within the 30% most deprived LSOAs in England.
A33: q The Living Enviroment domain has 65 LSOAs which fall within the 10% most deprived in England - nearly half of all Camden LSOAs (49%).
A34: q Camden does relatively well on the Education, Training & Skills domain, where only 7 LSOAs fall within the 30% most deprived LSOAs in England.

Sheet Camden LSOAs by ward 2015
A1: Indices of Deprivation 2015 | E1: 1=most deprived
A2: © Department for Communities & Local Government, 30 September 2015
H3: 1 | I3: 2 | K3: 3 | M3: 4 | N3: 5 | O3: 6 | P3: 7 | Q3: 8 | R3: 9 | S3: 10 | T3: 11 | U3: 12 | V3: 13 | W3: 14 | X3: 15 | Y3: 16 | Z3: 17 | AA3: 18 | AB3: 19 | AC3: 20 | AD3: 21
A4: In ward and LSOA sequence | H4: Index of Multiple Deprivation (IMD) | M4: INCOME | O4: EMPLOYMENT | Q4: HEALTH DEPRIVATION AND DISABILITY | R4: HEALTH DEPRIVATION AND DISABILITY | S4: EDUCATION SKILLS AND TRAINING | U4: BARRIERS TO HOUSING & SERVICES | W4: CRIME AND DISORDER | Y4: LIVING ENVIRONMENT | AA4: Income Deprivation Affecting Children | AC4: Income Deprivation Affecting Older People
H5: Rank in Camden (/133) | K5: RANK OF IMD of all LSOAs in England (/32,844) | M5: RANK | O5: RANK | Q5: RANK | S5: RANK | U5: RANK | W5: RANK | Y5: RANK | AA5: IDACI RANK | AC5: IDAOPI RANK
A6: LSOA code | B6: WARD CODE | C6: WARD NAME | D6: LA CODE | E6: LA NAME | F6: GOR CODE | G6: GOR NAME | I6: IMD SCORE | J6: IMD Average of Scores for wards | K6: 1 is most deprived | L6: % Most Deprived of LSOAs in England | M6: INCOME SCORE | N6: 1 is most deprived | O6: EMPLOYMENT SCORE | P6: 1 is most deprived | Q6: HEALTH etc SCORE | R6: 1 is most deprived | S6: EDUCATION, SKILLS & TRAINING SCORE | T6: 1 is most deprived | U6: BARRIERS etc SCORE | V6: 1 is most deprived | W6: CRIME etc SCORE | X6: 1 is most deprived | Y6: LIVING ENV SCORE | Z6: 1 is most deprived | AA6: IDACI score | AB6: 1 is most deprived | AC6: IDAOPI score | AD6: 1 is most deprived
A7: E01000842 | B7: 00AGGD | C7: Belsize | D7: 00AG | E7: Camden | F7: H | G7: London | H7: =RANK(K7,$K$7:$K$139,1) -> 108 | I7: 12.385 | J7: 15.544625 | K7: 21358 | L7: =K7/32844*100 -> 65.02862 | M7: 0.064 | N7: 24713 | O7: 0.057 | P7: 25891 | Q7: -1.225 | R7: 30179 | S7: 9.414 | T7: 22443 | U7: 17.794 | V7: 19565 | W7: 0.138 | X7: 14404 | Y7: 50.717 | Z7: 2137 | AA7: 0.076 | AB7: 24471 | AC7: 0.121 | AD7: 19723
A8: E01000843 | B8: 00AGGD | C8: Belsize | D8: 00AG | E8: Camden | F8: H | G8: London | H8: =RANK(K8,$K$7:$K$139,1) -> 85 | I8: 17.982 | K8: 15915 | L8: =K8/32844*100 -> 48.456339 | M8: 0.161 | N8: 11383 | O8: 0.074 | P8: 21407 | Q8: -0.623 | R8: 24784 | S8: 10.533 | T8: 21342 | U8: 20.708 | V8: 15905 | W8: -0.027 | X8: 16990 | Y8: 49.91 | Z8: 2288 | AA8: 0.283 | AB8: 7513 | AC8: 0.143 | AD8: 17177
A9: E01000844 | B9: 00AGGD | C9: Belsize | D9: 00AG | E9: Camden | F9: H | G9: London | H9: =RANK(K9,$K$7:$K$139,1) -> 100 | I9: 14.546 | K9: 19087 | L9: =K9/32844*100 -> 58.114115 | M9: 0.059 | N9: 25807 | O9: 0.057 | P9: 25996 | Q9: -0.697 | R9: 25678 | S9: 11.846 | T9: 20151 | U9: 18.695 | V9: 18436 | W9: -0.083 | X9: 17816 | Y9: 62.548 | Z9: 627 | AA9: 0.027 | AB9: 31632 | AC9: 0.168 | AD9: 14625
A10: E01000845 | B10: 00AGGD | C10: Belsize | D10: 00AG | E10: Camden | F10: H | G10: London | H10: =RANK(K10,$K$7:$K$139,1) -> 107 | I10: 12.53 | K10: 21173 | L10: =K10/32844*100 -> 64.465351 | M10: 0.092 | N10: 19616 | O10: 0.05 | P10: 27758 | Q10: -0.599 | R10: 24495 | S10: 6.152 | T10: 26050 | U10: 14.367 | V10: 23828 | W10: 0.561 | X10: 8197 | Y10: 39.116 | Z10: 4997 | AA10: 0.161 | AB10: 15331 | AC10: 0.157 | AD10: 15656
A11: E01000846 | B11: 00AGGD | C11: Belsize | D11: 00AG | E11: Camden | F11: H | G11: London | H11: =RANK(K11,$K$7:$K$139,1) -> 58 | I11: 26.586 | K11: 9951 | L11: =K11/32844*100 -> 30.297771 | M11: 0.24 | N11: 6007 | O11: 0.164 | P11: 7699 | Q11: 0.091 | R11: 14787 | S11: 6.66 | T11: 25442 | U11: 25.541 | V11: 10468 | W11: 0.255 | X11: 12617 | Y11: 33.737 | Z11: 7062 | AA11: 0.329 | AB11: 5419 | AC11: 0.267 | AD11: 7455
A12: E01000847 | B12: 00AGGD | C12: Belsize | D12: 00AG | E12: Camden | F12: H | G12: London | H12: =RANK(K12,$K$7:$K$139,1) -> 79 | I12: 19.594 | K12: 14584 | L12: =K12/32844*100 -> 44.403848 | M12: 0.202 | N12: 8219 | O12: 0.115 | P12: 13346 | Q12: -0.452 | R12: 22626 | S12: 6.774 | T12: 25327 | U12: 20.273 | V12: 16442 | W12: -0.089 | X12: 17898 | Y12: 35.43 | Z12: 6376 | AA12: 0.295 | AB12: 6917 | AC12: 0.24 | AD12: 8981
A13: E01000848 | B13: 00AGGD | C13: Belsize | D13: 00AG | E13: Camden | F13: H | G13: London | H13: =RANK(K13,$K$7:$K$139,1) -> 117 | I13: 9.708 | K13: 24561 | L13: =K13/32844*100 -> 74.780782 | M13: 0.055 | N13: 26724 | O13: 0.042 | P13: 29823 | Q13: -1.175 | R13: 29827 | S13: 5.403 | T13: 26890 | U13: 13.001 | V13: 25467 | W13: 0.561 | X13: 8200 | Y13: 38.75 | Z13: 5116 | AA13: 0.026 | AB13: 31773 | AC13: 0.156 | AD13: 15810
A14: E01000849 | B14: 00AGGD | C14: Belsize | D14: 00AG | E14: Camden | F14: H | G14: London | H14: =RANK(K14,$K$7:$K$139,1) -> 112 | I14: 11.026 | K14: 22980 | L14: =K14/32844*100 -> 69.967117 | M14: 0.057 | N14: 26404 | O14: 0.038 | P14: 30583 | Q14: -0.969 | R14: 28309 | S14: 7.317 | T14: 24713 | U14: 16.894 | V14: 20657 | W14: -0.208 | X14: 19714 | Y14: 55.225 | Z14: 1427 | AA14: 0.088 | AB14: 22773 | AC14: 0.12 | AD14: 19842
A15: E01000850 | B15: 00AGGE | C15: Bloomsbury | D15: 00AG | E15: Camden | F15: H | G15: London | H15: =RANK(K15,$K$7:$K$139,1) -> 84 | I15: 18.112 | J15: 21.0795 | K15: 15786 | L15: =K15/32844*100 -> 48.063573 | M15: 0.069 | N15: 23813 | O15: 0.04 | P15: 30222 | Q15: -0.746 | R15: 26178 | S15: 7.768 | T15: 24203 | U15: 25.48 | V15: 10530 | W15: 0.568 | X15: 8082 | Y15: 79.817 | Z15: 37 | AA15: 0.238 | AB15: 9942 | AC15: 0.203 | AD15: 11645
A16: E01000851 | B16: 00AGGE | C16: Bloomsbury | D16: 00AG | E16: Camden | F16: H | G16: London | H16: =RANK(K16,$K$7:$K$139,1) -> 97 | I16: 15.249 | K16: 18390 | L16: =K16/32844*100 -> 55.991962 | M16: 0.046 | N16: 28785 | O16: 0.036 | P16: 30903 | Q16: -1.204 | R16: 30016 | S16: 3.602 | T16: 29067 | U16: 28.111 | V16: 8260 | W16: 0.103 | X16: 14952 | Y16: 78.996 | Z16: 45 | AA16: 0.065 | AB16: 26058 | AC16: 0.175 | AD16: 13951
A17: E01000852 | B17: 00AGGE | C17: Bloomsbury | D17: 00AG | E17: Camden | F17: H | G17: London | H17: =RANK(K17,$K$7:$K$139,1) -> 80 | I17: 19.244 | K17: 14834 | L17: =K17/32844*100 -> 45.165023 | M17: 0.075 | N17: 22528 | O17: 0.064 | P17: 24028 | Q17: 0.247 | R17: 12605 | S17: 2.91 | T17: 29908 | U17: 25.739 | V17: 10275 | W17: 0.543 | X17: 8429 | Y17: 62.041 | Z17: 679 | AA17: 0.153 | AB17: 15983 | AC17: 0.204 | AD17: 11546
A18: E01000853 | B18: 00AGGE | C18: Bloomsbury | D18: 00AG | E18: Camden | F18: H | G18: London | H18: =RANK(K18,$K$7:$K$139,1) -> 29 | I18: 36.001 | K18: 5767 | L18: =K18/32844*100 -> 17.558763 | M18: 0.255 | N18: 5231 | O18: 0.2 | P18: 5038 | Q18: 0.507 | R18: 9324 | S18: 16.217 | T18: 16473 | U18: 30.422 | V18: 6521 | W18: 0.314 | X18: 11702 | Y18: 54.548 | Z18: 1522 | AA18: 0.223 | AB18: 10881 | AC18: 0.359 | AD18: 3597
A19: E01000854 | B19: 00AGGE | C19: Bloomsbury | D19: 00AG | E19: Camden | F19: H | G19: London | H19: =RANK(K19,$K$7:$K$139,1) -> 75 | I19: 20.424 | K19: 13893 | L19: =K19/32844*100 -> 42.299963 | M19: 0.118 | N19: 15888 | O19: 0.082 | P19: 19370 | Q19: 0.031 | R19: 15664 | S19: 6.733 | T19: 25365 | U19: 31.518 | V19: 5828 | W19: -0.18 | X19: 19284 | Y19: 56.159 | Z19: 1312 | AA19: 0.106 | AB19: 20573 | AC19: 0.389 | AD19: 2703
A20: E01000855 | B20: 00AGGE | C20: Bloomsbury | D20: 00AG | E20: Camden | F20: H | G20: London | H20: =RANK(K20,$K$7:$K$139,1) -> 87 | I20: 17.447 | K20: 16377 | L20: =K20/32844*100 -> 49.862989 | M20: 0.062 | N20: 25212 | O20: 0.051 | P20: 27661 | Q20: -0.758 | R20: 26301 | S20: 1.769 | T20: 31228 | U20: 28.079 | V20: 8288 | W20: 0.562 | X20: 8169 | Y20: 71.665 | Z20: 160 | AA20: 0.247 | AB20: 9436 | AC20: 0.079 | AD20: 26183
A21: E01000856 | B21: 00AGGF | C21: Camden Town with Primrose Hill | D21: 00AG | E21: Camden | F21: H | G21: London | H21: =RANK(K21,$K$7:$K$139,1) -> 20 | I21: 38.874 | J21: 27.355125 | K21: 4833 | L21: =K21/32844*100 -> 14.715016 | M21: 0.266 | N21: 4747 | O21: 0.167 | P21: 7428 | Q21: 0.879 | R21: 5388 | S21: 12.146 | T21: 19883 | U21: 26.223 | V21: 9835 | W21: 1.605 | X21: 525 | Y21: 45.396 | Z21: 3240 | AA21: 0.392 | AB21: 3088 | AC21: 0.356 | AD21: 3689
A22: E01000857 | B22: 00AGGF | C22: Camden Town with Primrose Hill | D22: 00AG | E22: Camden | F22: H | G22: London | H22: =RANK(K22,$K$7:$K$139,1) -> 95 | I22: 16.197 | K22: 17464 | L22: =K22/32844*100 -> 53.172573 | M22: 0.156 | N22: 11847 | O22: 0.1 | P22: 15754 | Q22: -0.188 | R22: 18940 | S22: 2.214 | T22: 30724 | U22: 13.943 | V22: 24372 | W22: -0.059 | X22: 17470 | Y22: 36.015 | Z22: 6148 | AA22: 0.177 | AB22: 13956 | AC22: 0.216 | AD22: 10660
A23: E01000858 | B23: 00AGGF | C23: Camden Town with Primrose Hill | D23: 00AG | E23: Camden | F23: H | G23: London | H23: =RANK(K23,$K$7:$K$139,1) -> 5 | I23: 46.086 | K23: 2960 | L23: =K23/32844*100 -> 9.0123006 | M23: 0.35 | N23: 1758 | O23: 0.223 | P23: 3685 | Q23: 0.601 | R23: 8245 | S23: 13.528 | T23: 18609 | U23: 29.409 | V23: 7235 | W23: 2.117 | X23: 63 | Y23: 33.122 | Z23: 7305 | AA23: 0.557 | AB23: 313 | AC23: 0.468 | AD23: 1185
A24: E01000859 | B24: 00AGGF | C24: Camden Town with Primrose Hill | D24: 00AG | E24: Camden | F24: H | G24: London | H24: =RANK(K24,$K$7:$K$139,1) -> 116 | I24: 10.067 | K24: 24133 | L24: =K24/32844*100 -> 73.477652 | M24: 0.063 | N24: 25053 | O24: 0.056 | P24: 26305 | Q24: -1.216 | R24: 30115 | S24: 1.523 | T24: 31500 | U24: 13.634 | V24: 24739 | W24: 0.137 | X24: 14418 | Y24: 46.237 | Z24: 3038 | AA24: 0.061 | AB24: 26752 | AC24: 0.117 | AD24: 20269
A25: E01000860 | B25: 00AGGF | C25: Camden Town with Primrose Hill | D25: 00AG | E25: Camden | F25: H | G25: London | H25: =RANK(K25,$K$7:$K$139,1) -> 71 | I25: 21.823 | K25: 12856 | L25: =K25/32844*100 -> 39.142614 | M25: 0.174 | N25: 10238 | O25: 0.107 | P25: 14557 | Q25: -0.045 | R25: 16770 | S25: 6.011 | T25: 26193 | U25: 24.196 | V25: 11863 | W25: 0.527 | X25: 8653 | Y25: 41.291 | Z25: 4331 | AA25: 0.088 | AB25: 22819 | AC25: 0.363 | AD25: 3468
A26: E01000861 | B26: 00AGGF | C26: Camden Town with Primrose Hill | D26: 00AG | E26: Camden | F26: H | G26: London | H26: =RANK(K26,$K$7:$K$139,1) -> 31 | I26: 35.375 | K26: 6012 | L26: =K26/32844*100 -> 18.304713 | M26: 0.198 | N26: 8482 | O26: 0.139 | P26: 10186 | Q26: 0.273 | R26: 12260 | S26: 7.207 | T26: 24822 | U26: 24.257 | V26: 11802 | W26: 1.666 | X26: 430 | Y26: 73.897 | Z26: 106 | AA26: 0.347 | AB26: 4664 | AC26: 0.316 | AD26: 5172
A27: E01000862 | B27: 00AGGF | C27: Camden Town with Primrose Hill | D27: 00AG | E27: Camden | F27: H | G27: London | H27: =RANK(K27,$K$7:$K$139,1) -> 106 | I27: 12.982 | K27: 20692 | L27: =K27/32844*100 -> 63.000853 | M27: 0.065 | N27: 24613 | O27: 0.052 | P27: 27430 | Q27: -1.001 | R27: 28562 | S27: 0.694 | T27: 32389 | U27: 12.935 | V27: 25540 | W27: 1.061 | X27: 2914 | Y27: 45.093 | Z27: 3309 | AA27: 0.085 | AB27: 23126 | AC27: 0.109 | AD27: 21458
A28: E01000863 | B28: 00AGGF | C28: Camden Town with Primrose Hill | D28: 00AG | E28: Camden | F28: H | G28: London | H28: =RANK(K28,$K$7:$K$139,1) -> 26 | I28: 37.437 | K28: 5313 | L28: =K28/32844*100 -> 16.176471 | M28: 0.195 | N28: 8666 | O28: 0.15 | P28: 9050 | Q28: 0.779 | R28: 6304 | S28: 16.178 | T28: 16507 | U28: 23.083 | V28: 13099 | W28: 1.631 | X28: 476 | Y28: 63.472 | Z28: 553 | AA28: 0.283 | AB28: 7499 | AC28: 0.3 | AD28: 5887
A29: E01000864 | B29: 00AGGG | C29: Cantelowes | D29: 00AG | E29: Camden | F29: H | G29: London | H29: =RANK(K29,$K$7:$K$139,1) -> 63 | I29: 25.388 | J29: 31.808 | K29: 10648 | L29: =K29/32844*100 -> 32.419924 | M29: 0.164 | N29: 11112 | O29: 0.117 | P29: 12959 | Q29: 0.233 | R29: 12781 | S29: 1.493 | T29: 31532 | U29: 22.215 | V29: 14104 | W29: 1.094 | X29: 2654 | Y29: 49.8 | Z29: 2307 | AA29: 0.257 | AB29: 8849 | AC29: 0.22 | AD29: 10346
A30: E01000865 | B30: 00AGGG | C30: Cantelowes | D30: 00AG | E30: Camden | F30: H | G30: London | H30: =RANK(K30,$K$7:$K$139,1) -> 89 | I30: 17.133 | K30: 16639 | L30: =K30/32844*100 -> 50.660699 | M30: 0.081 | N30: 21469 | O30: 0.067 | P30: 23171 | Q30: -0.388 | R30: 21749 | S30: 3.06 | T30: 29720 | U30: 22.746 | V30: 13471 | W30: 1.273 | X30: 1577 | Y30: 38.106 | Z30: 5335 | AA30: 0.119 | AB30: 19106 | AC30: 0.152 | AD30: 16239
A31: E01000866 | B31: 00AGGG | C31: Cantelowes | D31: 00AG | E31: Camden | F31: H | G31: London | H31: =RANK(K31,$K$7:$K$139,1) -> 44 | I31: 31.315 | K31: 7609 | L31: =K31/32844*100 -> 23.167093 | M31: 0.201 | N31: 8253 | O31: 0.157 | P31: 8344 | Q31: 0.368 | R31: 11004 | S31: 4.806 | T31: 27592 | U31: 22.29 | V31: 14019 | W31: 1.079 | X31: 2770 | Y31: 59.347 | Z31: 943 | AA31: 0.264 | AB31: 8487 | AC31: 0.26 | AD31: 7818
A32: E01000867 | B32: 00AGGG | C32: Cantelowes | D32: 00AG | E32: Camden | F32: H | G32: London | H32: =RANK(K32,$K$7:$K$139,1) -> 15 | I32: 40.03 | K32: 4491 | L32: =K32/32844*100 -> 13.67373 | M32: 0.294 | N32: 3574 | O32: 0.184 | P32: 6074 | Q32: 0.866 | R32: 5501 | S32: 22.727 | T32: 12065 | U32: 29.275 | V32: 7335 | W32: 0.712 | X32: 6280 | Y32: 52.032 | Z32: 1899 | AA32: 0.408 | AB32: 2618 | AC32: 0.455 | AD32: 1390
A33: E01000868 | B33: 00AGGG | C33: Cantelowes | D33: 00AG | E33: Camden | F33: H | G33: London | H33: =RANK(K33,$K$7:$K$139,1) -> 4 | I33: 46.793 | K33: 2826 | L33: =K33/32844*100 -> 8.6043113 | M33: 0.286 | N33: 3884 | O33: 0.235 | P33: 3084 | Q33: 0.714 | R33: 6973 | S33: 25.752 | T33: 10481 | U33: 39.462 | V33: 2268 | W33: 1.305 | X33: 1428 | Y33: 46.867 | Z33: 2921 | AA33: 0.245 | AB33: 9541 | AC33: 0.49 | AD33: 925
A34: E01000869 | B34: 00AGGG | C34: Cantelowes | D34: 00AG | E34: Camden | F34: H | G34: London | H34: =RANK(K34,$K$7:$K$139,1) -> 56 | I34: 26.731 | K34: 9869 | L34: =K34/32844*100 -> 30.048106 | M34: 0.18 | N34: 9744 | O34: 0.118 | P34: 12946 | Q34: 0.774 | R34: 6349 | S34: 8.888 | T34: 22996 | U34: 20.652 | V34: 15971 | W34: 0.612 | X34: 7509 | Y34: 49.331 | Z34: 2398 | AA34: 0.309 | AB34: 6239 | AC34: 0.294 | AD34: 6136
A35: E01000870 | B35: 00AGGG | C35: Cantelowes | D35: 00AG | E35: Camden | F35: H | G35: London | H35: =RANK(K35,$K$7:$K$139,1) -> 32 | I35: 35.266 | K35: 6040 | L35: =K35/32844*100 -> 18.389965 | M35: 0.25 | N35: 5492 | O35: 0.185 | P35: 6026 | Q35: 0.666 | R35: 7502 | S35: 9.704 | T35: 22157 | U35: 18.955 | V35: 18118 | W35: 1.09 | X35: 2689 | Y35: 53.373 | Z35: 1703 | AA35: 0.385 | AB35: 3322 | AC35: 0.359 | AD35: 3576
A36: E01000871 | B36: 00AGGH | C36: Fortune Green | D36: 00AG | E36: Camden | F36: H | G36: London | H36: =RANK(K36,$K$7:$K$139,1) -> 90 | I36: 17.105 | J36: 20.055286 | K36: 16657 | L36: =K36/32844*100 -> 50.715504 | M36: 0.131 | N36: 14418 | O36: 0.097 | P36: 16274 | Q36: -0.563 | R36: 24057 | S36: 3.235 | T36: 29520 | U36: 18.68 | V36: 18460 | W36: 0.938 | X36: 3941 | Y36: 27.856 | Z36: 9767 | AA36: 0.159 | AB36: 15524 | AC36: 0.156 | AD36: 15810
A37: E01000872 | B37: 00AGGH | C37: Fortune Green | D37: 00AG | E37: Camden | F37: H | G37: London | H37: =RANK(K37,$K$7:$K$139,1) -> 49 | I37: 29.02 | K37: 8689 | L37: =K37/32844*100 -> 26.455365 | M37: 0.175 | N37: 10159 | O37: 0.145 | P37: 9573 | Q37: 0.384 | R37: 10810 | S37: 8.784 | T37: 23119 | U37: 23.147 | V37: 13022 | W37: 0.771 | X37: 5571 | Y37: 59.379 | Z37: 937 | AA37: 0.311 | AB37: 6171 | AC37: 0.259 | AD37: 7907
A38: E01000873 | B38: 00AGGH | C38: Fortune Green | D38: 00AG | E38: Camden | F38: H | G38: London | H38: =RANK(K38,$K$7:$K$139,1) -> 113 | I38: 10.923 | K38: 23092 | L38: =K38/32844*100 -> 70.308123 | M38: 0.088 | N38: 20241 | O38: 0.058 | P38: 25579 | Q38: -0.917 | R38: 27856 | S38: 9.752 | T38: 22114 | U38: 11.914 | V38: 26703 | W38: -0.106 | X38: 18146 | Y38: 38.412 | Z38: 5235 | AA38: 0.128 | AB38: 18207 | AC38: 0.13 | AD38: 18569
A39: E01000874 | B39: 00AGGH | C39: Fortune Green | D39: 00AG | E39: Camden | F39: H | G39: London | H39: =RANK(K39,$K$7:$K$139,1) -> 125 | I39: 8.789 | K39: 25712 | L39: =K39/32844*100 -> 78.285227 | M39: 0.051 | N39: 27655 | O39: 0.039 | P39: 30441 | Q39: -1.215 | R39: 30110 | S39: 4.553 | T39: 27892 | U39: 10.416 | V39: 28350 | W39: -0.059 | X39: 17465 | Y39: 48.253 | Z39: 2609 | AA39: 0.072 | AB39: 25123 | AC39: 0.103 | AD39: 22287
A40: E01000875 | B40: 00AGGH | C40: Fortune Green | D40: 00AG | E40: Camden | F40: H | G40: London | H40: =RANK(K40,$K$7:$K$139,1) -> 62 | I40: 25.782 | K40: 10416 | L40: =K40/32844*100 -> 31.713555 | M40: 0.154 | N40: 12044 | O40: 0.126 | P40: 11799 | Q40: -0.068 | R40: 17146 | S40: 21.741 | T40: 12641 | U40: 22.246 | V40: 14065 | W40: 0.85 | X40: 4756 | Y40: 46.609 | Z40: 2958 | AA40: 0.275 | AB40: 7964 | AC40: 0.238 | AD40: 9150
A41: E01000876 | B41: 00AGGH | C41: Fortune Green | D41: 00AG | E41: Camden | F41: H | G41: London | H41: =RANK(K41,$K$7:$K$139,1) -> 28 | I41: 36.833 | K41: 5505 | L41: =K41/32844*100 -> 16.761052 | M41: 0.283 | N41: 4013 | O41: 0.195 | P41: 5344 | Q41: 1.063 | R41: 3947 | S41: 13.248 | T41: 18868 | U41: 25.398 | V41: 10621 | W41: 0.728 | X41: 6085 | Y41: 36.323 | Z41: 6013 | AA41: 0.448 | AB41: 1657 | AC41: 0.438 | AD41: 1658
A42: E01000877 | B42: 00AGGH | C42: Fortune Green | D42: 00AG | E42: Camden | F42: H | G42: London | H42: =RANK(K42,$K$7:$K$139,1) -> 110 | I42: 11.935 | K42: 21878 | L42: =K42/32844*100 -> 66.611862 | M42: 0.088 | N42: 20277 | O42: 0.071 | P42: 22053 | Q42: -0.62 | R42: 24740 | S42: 1.738 | T42: 31261 | U42: 15.535 | V42: 22386 | W42: 0.051 | X42: 15792 | Y42: 40.744 | Z42: 4489 | AA42: 0.069 | AB42: 25460 | AC42: 0.217 | AD42: 10563
A43: E01000878 | B43: 00AGGJ | C43: Frognal and Fitzjohns | D43: 00AG | E43: Camden | F43: H | G43: London | H43: =RANK(K43,$K$7:$K$139,1) -> 122 | I43: 8.996 | J43: 10.04075 | K43: 25464 | L43: =K43/32844*100 -> 77.530142 | M43: 0.067 | N43: 24140 | O43: 0.036 | P43: 30876 | Q43: -1.171 | R43: 29802 | S43: 15.178 | T43: 17322 | U43: 16.146 | V43: 21595 | W43: -0.106 | X43: 18160 | Y43: 29.655 | Z43: 8839 | AA43: 0.102 | AB43: 21083 | AC43: 0.105 | AD43: 21984
A44: E01000879 | B44: 00AGGJ | C44: Frognal and Fitzjohns | D44: 00AG | E44: Camden | F44: H | G44: London | H44: =RANK(K44,$K$7:$K$139,1) -> 129 | I44: 7.877 | K44: 26898 | L44: =K44/32844*100 -> 81.896237 | M44: 0.044 | N44: 29121 | O44: 0.038 | P44: 30612 | Q44: -1.259 | R44: 30379 | S44: 1.481 | T44: 31540 | U44: 14.274 | V44: 23952 | W44: 0.245 | X44: 12768 | Y44: 39.25 | Z44: 4952 | AA44: 0.039 | AB44: 30062 | AC44: 0.103 | AD44: 22271
A45: E01000880 | B45: 00AGGJ | C45: Frognal and Fitzjohns | D45: 00AG | E45: Camden | F45: H | G45: London | H45: =RANK(K45,$K$7:$K$139,1) -> 119 | I45: 9.42 | K45: 24930 | L45: =K45/32844*100 -> 75.904275 | M45: 0.045 | N45: 28904 | O45: 0.028 | P45: 32048 | Q45: -1.739 | R45: 32100 | S45: 2.762 | T45: 30082 | U45: 17.776 | V45: 19585 | W45: 0.47 | X45: 9429 | Y45: 44.591 | Z45: 3420 | AA45: 0.034 | AB45: 30814 | AC45: 0.089 | AD45: 24534
A46: E01000881 | B46: 00AGGJ | C46: Frognal and Fitzjohns | D46: 00AG | E46: Camden | F46: H | G46: London | H46: =RANK(K46,$K$7:$K$139,1) -> 88 | I46: 17.34 | K46: 16468 | L46: =K46/32844*100 -> 50.140056 | M46: 0.091 | N46: 19770 | O46: 0.065 | P46: 23692 | Q46: -0.674 | R46: 25417 | S46: 8.543 | T46: 23390 | U46: 21.513 | V46: 14951 | W46: 0.641 | X46: 7118 | Y46: 57.134 | Z46: 1205 | AA46: 0.099 | AB46: 21444 | AC46: 0.174 | AD46: 14067
A47: E01000882 | B47: 00AGGJ | C47: Frognal and Fitzjohns | D47: 00AG | E47: Camden | F47: H | G47: London | H47: =RANK(K47,$K$7:$K$139,1) -> 133 | I47: 6.5 | K47: 28585 | L47: =K47/32844*100 -> 87.032639 | M47: 0.042 | N47: 29688 | O47: 0.022 | P47: 32522 | Q47: -1.49 | R47: 31403 | S47: 2.839 | T47: 29986 | U47: 13.823 | V47: 24513 | W47: -0.445 | X47: 23152 | Y47: 41.327 | Z47: 4321 | AA47: 0.059 | AB47: 27088 | AC47: 0.072 | AD47: 27380
A48: E01000883 | B48: 00AGGJ | C48: Frognal and Fitzjohns | D48: 00AG | E48: Camden | F48: H | G48: London | H48: =RANK(K48,$K$7:$K$139,1) -> 103 | I48: 13.483 | K48: 20181 | L48: =K48/32844*100 -> 61.445013 | M48: 0.067 | N48: 24064 | O48: 0.031 | P48: 31688 | Q48: -1.204 | R48: 30029 | S48: 4.666 | T48: 27754 | U48: 19.197 | V48: 17824 | W48: 0.828 | X48: 4979 | Y48: 52.543 | Z48: 1830 | AA48: 0.087 | AB48: 22875 | AC48: 0.192 | AD48: 12536
A49: E01000884 | B49: 00AGGJ | C49: Frognal and Fitzjohns | D49: 00AG | E49: Camden | F49: H | G49: London | H49: =RANK(K49,$K$7:$K$139,1) -> 128 | I49: 7.896 | K49: 26879 | L49: =K49/32844*100 -> 81.838388 | M49: 0.042 | N49: 29552 | O49: 0.049 | P49: 28049 | Q49: -1.22 | R49: 30146 | S49: 0.667 | T49: 32416 | U49: 17.477 | V49: 19940 | W49: 0.328 | X49: 11484 | Y49: 32.088 | Z49: 7751 | AA49: 0.027 | AB49: 31631 | AC49: 0.056 | AD49: 29932
A50: E01000885 | B50: 00AGGJ | C50: Frognal and Fitzjohns | D50: 00AG | E50: Camden | F50: H | G50: London | H50: =RANK(K50,$K$7:$K$139,1) -> 124 | I50: 8.814 | K50: 25679 | L50: =K50/32844*100 -> 78.184752 | M50: 0.041 | N50: 29758 | O50: 0.032 | P50: 31631 | Q50: -1.14 | R50: 29601 | S50: 9.789 | T50: 22086 | U50: 23.247 | V50: 12907 | W50: 0.041 | X50: 15914 | Y50: 33.018 | Z50: 7344 | AA50: 0.028 | AB50: 31501 | AC50: 0.081 | AD50: 25820
A51: E01000886 | B51: 00AGGK | C51: Gospel Oak | D51: 00AG | E51: Camden | F51: H | G51: London | H51: =RANK(K51,$K$7:$K$139,1) -> 105 | I51: 13.071 | J51: 30.728714 | K51: 20609 | L51: =K51/32844*100 -> 62.748143 | M51: 0.113 | N51: 16518 | O51: 0.07 | P51: 22535 | Q51: -0.588 | R51: 24370 | S51: 4.622 | T51: 27820 | U51: 12.932 | V51: 25543 | W51: 0.081 | X51: 15293 | Y51: 40.891 | Z51: 4452 | AA51: 0.193 | AB51: 12865 | AC51: 0.121 | AD51: 19773
A52: E01000887 | B52: 00AGGK | C52: Gospel Oak | D52: 00AG | E52: Camden | F52: H | G52: London | H52: =RANK(K52,$K$7:$K$139,1) -> 92 | I52: 16.679 | K52: 17044 | L52: =K52/32844*100 -> 51.893801 | M52: 0.121 | N52: 15557 | O52: 0.083 | P52: 19189 | Q52: -0.173 | R52: 18699 | S52: 4.251 | T52: 28265 | U52: 16.747 | V52: 20825 | W52: 0.675 | X52: 6702 | Y52: 37.874 | Z52: 5419 | AA52: 0.192 | AB52: 12903 | AC52: 0.174 | AD52: 14089
A53: E01000888 | B53: 00AGGK | C53: Gospel Oak | D53: 00AG | E53: Camden | F53: H | G53: London | H53: =RANK(K53,$K$7:$K$139,1) -> 83 | I53: 18.261 | K53: 15650 | L53: =K53/32844*100 -> 47.649495 | M53: 0.145 | N53: 12919 | O53: 0.097 | P53: 16311 | Q53: -0.217 | R53: 19362 | S53: 2.169 | T53: 30774 | U53: 16.645 | V53: 20961 | W53: 0.364 | X53: 10927 | Y53: 46.926 | Z53: 2903 | AA53: 0.19 | AB53: 13077 | AC53: 0.2 | AD53: 11907
A54: E01000889 | B54: 00AGGK | C54: Gospel Oak | D54: 00AG | E54: Camden | F54: H | G54: London | H54: =RANK(K54,$K$7:$K$139,1) -> 17 | I54: 39.331 | K54: 4708 | L54: =K54/32844*100 -> 14.334429 | M54: 0.289 | N54: 3744 | O54: 0.209 | P54: 4492 | Q54: 1.067 | R54: 3924 | S54: 26.493 | T54: 10149 | U54: 25.89 | V54: 10143 | W54: 0.644 | X54: 7075 | Y54: 33.712 | Z54: 7075 | AA54: 0.372 | AB54: 3755 | AC54: 0.344 | AD54: 4036
A55: E01000890 | B55: 00AGGK | C55: Gospel Oak | D55: 00AG | E55: Camden | F55: H | G55: London | H55: =RANK(K55,$K$7:$K$139,1) -> 2 | I55: 52.994 | K55: 1735 | L55: =K55/32844*100 -> 5.2825478 | M55: 0.362 | N55: 1494 | O55: 0.305 | P55: 950 | Q55: 1.348 | R55: 2276 | S55: 36.534 | T55: 6337 | U55: 29.085 | V55: 7475 | W55: 0.525 | X55: 8677 | Y55: 33.709 | Z55: 7077 | AA55: 0.43 | AB55: 2033 | AC55: 0.434 | AD55: 1735
A56: E01000891 | B56: 00AGGK | C56: Gospel Oak | D56: 00AG | E56: Camden | F56: H | G56: London | H56: =RANK(K56,$K$7:$K$139,1) -> 1 | I56: 54.971 | K56: 1468 | L56: =K56/32844*100 -> 4.4696139 | M56: 0.367 | N56: 1390 | O56: 0.247 | P56: 2576 | Q56: 1.837 | R56: 710 | S56: 35.264 | T56: 6772 | U56: 35.414 | V56: 3837 | W56: 1.053 | X56: 2961 | Y56: 31.898 | Z56: 7833 | AA56: 0.507 | AB56: 699 | AC56: 0.502 | AD56: 802
A57: E01000892 | B57: 00AGGK | C57: Gospel Oak | D57: 00AG | E57: Camden | F57: H | G57: London | H57: =RANK(K57,$K$7:$K$139,1) -> 78 | I57: 19.794 | K57: 14436 | L57: =K57/32844*100 -> 43.953233 | M57: 0.17 | N57: 10580 | O57: 0.107 | P57: 14575 | Q57: -0.141 | R57: 18224 | S57: 6.761 | T57: 25338 | U57: 16.186 | V57: 21545 | W57: 0.792 | X57: 5330 | Y57: 29.514 | Z57: 8907 | AA57: 0.251 | AB57: 9207 | AC57: 0.235 | AD57: 9304
A58: E01000893 | B58: 00AGGL | C58: Hampstead Town | D58: 00AG | E58: Camden | F58: H | G58: London | H58: =RANK(K58,$K$7:$K$139,1) -> 126 | I58: 8.558 | J58: 9.9602857 | K58: 26042 | L58: =K58/32844*100 -> 79.289977 | M58: 0.04 | N58: 30039 | O58: 0.047 | P58: 28516 | Q58: -1.237 | R58: 30254 | S58: 0.907 | T58: 32153 | U58: 16.821 | V58: 20735 | W58: 0.391 | X58: 10518 | Y58: 37.861 | Z58: 5422 | AA58: 0.031 | AB58: 31148 | AC58: 0.063 | AD58: 28852
A59: E01000894 | B59: 00AGGL | C59: Hampstead Town | D59: 00AG | E59: Camden | F59: H | G59: London | H59: =RANK(K59,$K$7:$K$139,1) -> 130 | I59: 7.575 | K59: 27281 | L59: =K59/32844*100 -> 83.062355 | M59: 0.036 | N59: 30702 | O59: 0.03 | P59: 31843 | Q59: -1.396 | R59: 31048 | S59: 2.362 | T59: 30535 | U59: 11.508 | V59: 27138 | W59: 0.605 | X59: 7608 | Y59: 34.16 | Z59: 6902 | AA59: 0.032 | AB59: 31065 | AC59: 0.06 | AD59: 29282
A60: E01000895 | B60: 00AGGL | C60: Hampstead Town | D60: 00AG | E60: Camden | F60: H | G60: London | H60: =RANK(K60,$K$7:$K$139,1) -> 102 | I60: 13.706 | K60: 19926 | L60: =K60/32844*100 -> 60.668615 | M60: 0.12 | N60: 15649 | O60: 0.072 | P60: 22039 | Q60: -0.155 | R60: 18420 | S60: 8.143 | T60: 23800 | U60: 13.451 | V60: 24938 | W60: -0.296 | X60: 20991 | Y60: 37.251 | Z60: 5645 | AA60: 0.09 | AB60: 22523 | AC60: 0.254 | AD60: 8124
A61: E01000896 | B61: 00AGGL | C61: Hampstead Town | D61: 00AG | E61: Camden | F61: H | G61: London | H61: =RANK(K61,$K$7:$K$139,1) -> 127 | I61: 8.485 | K61: 26131 | L61: =K61/32844*100 -> 79.560955 | M61: 0.041 | N61: 29885 | O61: 0.044 | P61: 29308 | Q61: -1.775 | R61: 32182 | S61: 7.256 | T61: 24774 | U61: 12.71 | V61: 25802 | W61: 0.307 | X61: 11810 | Y61: 38.864 | Z61: 5076 | AA61: 0.024 | AB61: 31930 | AC61: 0.055 | AD61: 30006
A62: E01000897 | B62: 00AGGL | C62: Hampstead Town | D62: 00AG | E62: Camden | F62: H | G62: London | H62: =RANK(K62,$K$7:$K$139,1) -> 132 | I62: 7.261 | K62: 27673 | L62: =K62/32844*100 -> 84.255876 | M62: 0.028 | N62: 31796 | O62: 0.03 | P62: 31801 | Q62: -1.459 | R62: 31292 | S62: 3.706 | T62: 28934 | U62: 9.972 | V62: 28834 | W62: 0.485 | X62: 9239 | Y62: 36.066 | Z62: 6126 | AA62: 0.019 | AB62: 32300 | AC62: 0.054 | AD62: 30218
A63: E01000898 | B63: 00AGGL | C63: Hampstead Town | D63: 00AG | E63: Camden | F63: H | G63: London | H63: =RANK(K63,$K$7:$K$139,1) -> 93 | I63: 16.675 | K63: 17047 | L63: =K63/32844*100 -> 51.902935 | M63: 0.133 | N63: 14207 | O63: 0.08 | P63: 19947 | Q63: 0.649 | R63: 7701 | S63: 10.813 | T63: 21095 | U63: 23.353 | V63: 12793 | W63: -0.611 | X63: 25319 | Y63: 19.438 | Z63: 15052 | AA63: 0.17 | AB63: 14574 | AC63: 0.279 | AD63: 6829
A64: E01000899 | B64: 00AGGL | C64: Hampstead Town | D64: 00AG | E64: Camden | F64: H | G64: London | H64: =RANK(K64,$K$7:$K$139,1) -> 131 | I64: 7.462 | K64: 27418 | L64: =K64/32844*100 -> 83.479479 | M64: 0.017 | N64: 32621 | O64: 0.016 | P64: 32707 | Q64: -1.819 | R64: 32258 | S64: 1.968 | T64: 31007 | U64: 14.133 | V64: 24135 | W64: 0.543 | X64: 8435 | Y64: 37.684 | Z64: 5485 | AA64: 0.015 | AB64: 32550 | AC64: 0.038 | AD64: 31928
A65: E01000900 | B65: 00AGGM | C65: Haverstock | D65: 00AG | E65: Camden | F65: H | G65: London | H65: =RANK(K65,$K$7:$K$139,1) -> 43 | I65: 31.427 | J65: 31.664714 | K65: 7559 | L65: =K65/32844*100 -> 23.014858 | M65: 0.222 | N65: 6956 | O65: 0.149 | P65: 9154 | Q65: 0.657 | R65: 7600 | S65: 19.81 | T65: 13914 | U65: 19.766 | V65: 17116 | W65: 0.817 | X65: 5076 | Y65: 47.132 | Z65: 2858 | AA65: 0.372 | AB65: 3772 | AC65: 0.267 | AD65: 7493
A66: E01000901 | B66: 00AGGM | C66: Haverstock | D66: 00AG | E66: Camden | F66: H | G66: London | H66: =RANK(K66,$K$7:$K$139,1) -> 24 | I66: 37.809 | K66: 5192 | L66: =K66/32844*100 -> 15.808062 | M66: 0.309 | N66: 2998 | O66: 0.191 | P66: 5624 | Q66: 0.619 | R66: 8023 | S66: 24.368 | T66: 11182 | U66: 30.122 | V66: 6708 | W66: 0.691 | X66: 6506 | Y66: 32.554 | Z66: 7544 | AA66: 0.5 | AB66: 785 | AC66: 0.353 | AD66: 3763
A67: E01000902 | B67: 00AGGM | C67: Haverstock | D67: 00AG | E67: Camden | F67: H | G67: London | H67: =RANK(K67,$K$7:$K$139,1) -> 19 | I67: 38.939 | K67: 4816 | L67: =K67/32844*100 -> 14.663257 | M67: 0.329 | N67: 2382 | O67: 0.2 | P67: 5033 | Q67: 0.801 | R67: 6095 | S67: 17.405 | T67: 15583 | U67: 33.882 | V67: 4518 | W67: 0.211 | X67: 13290 | Y67: 36.226 | Z67: 6053 | AA67: 0.467 | AB67: 1291 | AC67: 0.389 | AD67: 2703
A68: E01000903 | B68: 00AGGM | C68: Haverstock | D68: 00AG | E68: Camden | F68: H | G68: London | H68: =RANK(K68,$K$7:$K$139,1) -> 74 | I68: 20.524 | K68: 13819 | L68: =K68/32844*100 -> 42.074656 | M68: 0.168 | N68: 10781 | O68: 0.108 | P68: 14453 | Q68: -0.147 | R68: 18316 | S68: 2.393 | T68: 30500 | U68: 15.907 | V68: 21907 | W68: 0.525 | X68: 8678 | Y68: 48.097 | Z68: 2641 | AA68: 0.17 | AB68: 14532 | AC68: 0.324 | AD68: 4883
A69: E01000904 | B69: 00AGGM | C69: Haverstock | D69: 00AG | E69: Camden | F69: H | G69: London | H69: =RANK(K69,$K$7:$K$139,1) -> 36 | I69: 34.202 | K69: 6451 | L69: =K69/32844*100 -> 19.641335 | M69: 0.238 | N69: 6106 | O69: 0.156 | P69: 8456 | Q69: 0.435 | R69: 10175 | S69: 14.755 | T69: 17642 | U69: 23.477 | V69: 12655 | W69: 1.661 | X69: 435 | Y69: 37.688 | Z69: 5483 | AA69: 0.384 | AB69: 3387 | AC69: 0.344 | AD69: 4074
A70: E01000905 | B70: 00AGGM | C70: Haverstock | D70: 00AG | E70: Camden | F70: H | G70: London | H70: =RANK(K70,$K$7:$K$139,1) -> 8 | I70: 44.47 | K70: 3312 | L70: =K70/32844*100 -> 10.084034 | M70: 0.352 | N70: 1708 | O70: 0.221 | P70: 3845 | Q70: 0.914 | R70: 5085 | S70: 25.992 | T70: 10375 | U70: 29.804 | V70: 6927 | W70: 0.809 | X70: 5153 | Y70: 36.413 | Z70: 5980 | AA70: 0.47 | AB70: 1243 | AC70: 0.494 | AD70: 875
A71: E01000906 | B71: 00AGGM | C71: Haverstock | D71: 00AG | E71: Camden | F71: H | G71: London | H71: =RANK(K71,$K$7:$K$139,1) -> 101 | I71: 14.282 | K71: 19353 | L71: =K71/32844*100 -> 58.924004 | M71: 0.094 | N71: 19200 | O71: 0.069 | P71: 22643 | Q71: -0.338 | R71: 21085 | S71: 3.395 | T71: 29317 | U71: 14.986 | V71: 23065 | W71: 0.527 | X71: 8650 | Y71: 43.295 | Z71: 3762 | AA71: 0.144 | AB71: 16718 | AC71: 0.169 | AD71: 14544
A72: E01000907 | B72: 00AGGN | C72: Highgate | D72: 00AG | E72: Camden | F72: H | G72: London | H72: =RANK(K72,$K$7:$K$139,1) -> 30 | I72: 35.508 | J72: 21.222429 | K72: 5950 | L72: =K72/32844*100 -> 18.115942 | M72: 0.311 | N72: 2940 | O72: 0.229 | P72: 3386 | Q72: 0.656 | R72: 7610 | S72: 16.016 | T72: 16662 | U72: 21.661 | V72: 14770 | W72: 0.26 | X72: 12528 | Y72: 25.569 | Z72: 11046 | AA72: 0.397 | AB72: 2926 | AC72: 0.332 | AD72: 4544
A73: E01000908 | B73: 00AGGN | C73: Highgate | D73: 00AG | E73: Camden | F73: H | G73: London | H73: =RANK(K73,$K$7:$K$139,1) -> 46 | I73: 30.927 | K73: 7784 | L73: =K73/32844*100 -> 23.699915 | M73: 0.225 | N73: 6764 | O73: 0.175 | P73: 6809 | Q73: 0.374 | R73: 10930 | S73: 15.313 | T73: 17213 | U73: 21.729 | V73: 14682 | W73: -0.044 | X73: 17235 | Y73: 59.018 | Z73: 984 | AA73: 0.284 | AB73: 7424 | AC73: 0.279 | AD73: 6845
A74: E01000909 | B74: 00AGGN | C74: Highgate | D74: 00AG | E74: Camden | F74: H | G74: London | H74: =RANK(K74,$K$7:$K$139,1) -> 104 | I74: 13.114 | K74: 20563 | L74: =K74/32844*100 -> 62.608087 | M74: 0.102 | N74: 18015 | O74: 0.095 | P74: 16767 | Q74: -0.884 | R74: 27524 | S74: 4.135 | T74: 28406 | U74: 12.719 | V74: 25792 | W74: 0.189 | X74: 13636 | Y74: 34.701 | Z74: 6659 | AA74: 0.146 | AB74: 16616 | AC74: 0.076 | AD74: 26627
A75: E01000910 | B75: 00AGGN | C75: Highgate | D75: 00AG | E75: Camden | F75: H | G75: London | H75: =RANK(K75,$K$7:$K$139,1) -> 114 | I75: 10.909 | K75: 23104 | L75: =K75/32844*100 -> 70.34466 | M75: 0.065 | N75: 24576 | O75: 0.062 | P75: 24620 | Q75: -0.894 | R75: 27626 | S75: 2.021 | T75: 30942 | U75: 12.902 | V75: 25580 | W75: 0.687 | X75: 6549 | Y75: 35.295 | Z75: 6421 | AA75: 0.054 | AB75: 27913 | AC75: 0.085 | AD75: 25179
A76: E01000911 | B76: 00AGGN | C76: Highgate | D76: 00AG | E76: Camden | F76: H | G76: London | H76: =RANK(K76,$K$7:$K$139,1) -> 77 | I76: 19.992 | K76: 14249 | L76: =K76/32844*100 -> 43.383875 | M76: 0.171 | N76: 10564 | O76: 0.126 | P76: 11749 | Q76: -0.261 | R76: 20029 | S76: 8.632 | T76: 23288 | U76: 15.37 | V76: 22567 | W76: 0.531 | X76: 8602 | Y76: 31.33 | Z76: 8074 | AA76: 0.234 | AB76: 10212 | AC76: 0.181 | AD76: 13510
A77: E01000912 | B77: 00AGGN | C77: Highgate | D77: 00AG | E77: Camden | F77: H | G77: London | H77: =RANK(K77,$K$7:$K$139,1) -> 48 | I77: 29.143 | K77: 8639 | L77: =K77/32844*100 -> 26.30313 | M77: 0.24 | N77: 5966 | O77: 0.148 | P77: 9184 | Q77: 0.655 | R77: 7626 | S77: 18.278 | T77: 14982 | U77: 18.921 | V77: 18150 | W77: 0.595 | X77: 7747 | Y77: 33.273 | Z77: 7237 | AA77: 0.355 | AB77: 4389 | AC77: 0.295 | AD77: 6120
A78: E01000913 | B78: 00AGGN | C78: Highgate | D78: 00AG | E78: Camden | F78: H | G78: London | H78: =RANK(K78,$K$7:$K$139,1) -> 123 | I78: 8.964 | K78: 25499 | L78: =K78/32844*100 -> 77.636707 | M78: 0.027 | N78: 31878 | O78: 0.031 | P78: 31750 | Q78: -1.367 | R78: 30924 | S78: 0.655 | T78: 32426 | U78: 22.465 | V78: 13822 | W78: 0.709 | X78: 6312 | Y78: 33.71 | Z78: 7076 | AA78: 0.027 | AB78: 31664 | AC78: 0.038 | AD78: 31929
A79: E01000914 | B79: 00AGGP | C79: Holborn and Covent Garden | D79: 00AG | E79: Camden | F79: H | G79: London | H79: =RANK(K79,$K$7:$K$139,1) -> 91 | I79: 16.891 | J79: 26.946714 | K79: 16853 | L79: =K79/32844*100 -> 51.312264 | M79: 0.095 | N79: 19061 | O79: 0.069 | P79: 22776 | Q79: -0.841 | R79: 27115 | S79: 4.831 | T79: 27560 | U79: 18.98 | V79: 18090 | W79: -0.261 | X79: 20505 | Y79: 74.8 | Z79: 92 | AA79: 0.208 | AB79: 11859 | AC79: 0.167 | AD79: 14756
A80: E01000915 | B80: 00AGGP | C80: Holborn and Covent Garden | D80: 00AG | E80: Camden | F80: H | G80: London | H80: =RANK(K80,$K$7:$K$139,1) -> 50 | I80: 28.628 | K80: 8859 | L80: =K80/32844*100 -> 26.972963 | M80: 0.24 | N80: 5962 | O80: 0.137 | P80: 10418 | Q80: 0.06 | R80: 15238 | S80: 11.828 | T80: 20172 | U80: 27.578 | V80: 8689 | W80: -0.755 | X80: 27006 | Y80: 62.05 | Z80: 677 | AA80: 0.387 | AB80: 3275 | AC80: 0.305 | AD80: 5637
A81: E01000916 | B81: 00AGGP | C81: Holborn and Covent Garden | D81: 00AG | E81: Camden | F81: H | G81: London | H81: =RANK(K81,$K$7:$K$139,1) -> 65 | I81: 24.196 | K81: 11323 | L81: =K81/32844*100 -> 34.475094 | M81: 0.162 | N81: 11317 | O81: 0.097 | P81: 16389 | Q81: 0.229 | R81: 12836 | S81: 12.571 | T81: 19492 | U81: 22.489 | V81: 13798 | W81: -0.612 | X81: 25336 | Y81: 70.218 | Z81: 207 | AA81: 0.361 | AB81: 4186 | AC81: 0.26 | AD81: 7852
A82: E01000917 | B82: 00AGGP | C82: Holborn and Covent Garden | D82: 00AG | E82: Camden | F82: H | G82: London | H82: =RANK(K82,$K$7:$K$139,1) -> 6 | I82: 45.133 | K82: 3168 | L82: =K82/32844*100 -> 9.6455974 | M82: 0.325 | N82: 2494 | O82: 0.232 | P82: 3264 | Q82: 0.565 | R82: 8633 | S82: 32.544 | T82: 7642 | U82: 31.051 | V82: 6125 | W82: 0.259 | X82: 12540 | Y82: 61.814 | Z82: 696 | AA82: 0.423 | AB82: 2209 | AC82: 0.398 | AD82: 2468
A83: E01000918 | B83: 00AGGP | C83: Holborn and Covent Garden | D83: 00AG | E83: Camden | F83: H | G83: London | H83: =RANK(K83,$K$7:$K$139,1) -> 52 | I83: 28.04 | K83: 9145 | L83: =K83/32844*100 -> 27.843746 | M83: 0.181 | N83: 9675 | O83: 0.136 | P83: 10572 | Q83: 0.136 | R83: 14146 | S83: 6.705 | T83: 25395 | U83: 24.013 | V83: 12056 | W83: 0.433 | X83: 9953 | Y83: 67.676 | Z83: 288 | AA83: 0.235 | AB83: 10148 | AC83: 0.265 | AD83: 7572
A84: E01000919 | B84: 00AGGP | C84: Holborn and Covent Garden | D84: 00AG | E84: Camden | F84: H | G84: London | H84: =RANK(K84,$K$7:$K$139,1) -> 57 | I84: 26.65 | K84: 9904 | L84: =K84/32844*100 -> 30.154671 | M84: 0.139 | N84: 13533 | O84: 0.09 | P84: 17692 | Q84: 0.01 | R84: 15984 | S84: 9.091 | T84: 22779 | U84: 24.757 | V84: 11324 | W84: 1.13 | X84: 2401 | Y84: 67.591 | Z84: 290 | AA84: 0.318 | AB84: 5858 | AC84: 0.313 | AD84: 5294
A85: E01000920 | B85: 00AGGP | C85: Holborn and Covent Garden | D85: 00AG | E85: Camden | F85: H | G85: London | H85: =RANK(K85,$K$7:$K$139,1) -> 81 | I85: 19.089 | K85: 14970 | L85: =K85/32844*100 -> 45.579101 | M85: 0.146 | N85: 12827 | O85: 0.087 | P85: 18289 | Q85: -0.389 | R85: 21766 | S85: 5.105 | T85: 27219 | U85: 18.885 | V85: 18194 | W85: -0.29 | X85: 20906 | Y85: 62.253 | Z85: 654 | AA85: 0.193 | AB85: 12858 | AC85: 0.349 | AD85: 3895
A86: E01000921 | B86: 00AGGQ | C86: Kentish Town | D86: 00AG | E86: Camden | F86: H | G86: London | H86: =RANK(K86,$K$7:$K$139,1) -> 70 | I86: 22.538 | J86: 25.83125 | K86: 12366 | L86: =K86/32844*100 -> 37.650712 | M86: 0.129 | N86: 14592 | O86: 0.083 | P86: 19163 | Q86: -0.049 | R86: 16828 | S86: 4.031 | T86: 28534 | U86: 21.088 | V86: 15433 | W86: 0.874 | X86: 4528 | Y86: 63.574 | Z86: 544 | AA86: 0.24 | AB86: 9826 | AC86: 0.287 | AD86: 6475
A87: E01000922 | B87: 00AGGQ | C87: Kentish Town | D87: 00AG | E87: Camden | F87: H | G87: London | H87: =RANK(K87,$K$7:$K$139,1) -> 45 | I87: 31.27 | K87: 7634 | L87: =K87/32844*100 -> 23.24321 | M87: 0.225 | N87: 6778 | O87: 0.142 | P87: 9838 | Q87: 1.012 | R87: 4311 | S87: 15.279 | T87: 17236 | U87: 23.261 | V87: 12890 | W87: 0.585 | X87: 7858 | Y87: 42.549 | Z87: 3985 | AA87: 0.352 | AB87: 4506 | AC87: 0.331 | AD87: 4564
A88: E01000923 | B88: 00AGGQ | C88: Kentish Town | D88: 00AG | E88: Camden | F88: H | G88: London | H88: =RANK(K88,$K$7:$K$139,1) -> 59 | I88: 26.278 | K88: 10129 | L88: =K88/32844*100 -> 30.839727 | M88: 0.183 | N88: 9516 | O88: 0.152 | P88: 8848 | Q88: 0.846 | R88: 5684 | S88: 4.825 | T88: 27568 | U88: 15.221 | V88: 22763 | W88: 0.587 | X88: 7839 | Y88: 39.077 | Z88: 5016 | AA88: 0.18 | AB88: 13762 | AC88: 0.296 | AD88: 6052
A89: E01000924 | B89: 00AGGQ | C89: Kentish Town | D89: 00AG | E89: Camden | F89: H | G89: London | H89: =RANK(K89,$K$7:$K$139,1) -> 94 | I89: 16.615 | K89: 17091 | L89: =K89/32844*100 -> 52.036902 | M89: 0.123 | N89: 15328 | O89: 0.086 | P89: 18676 | Q89: -0.044 | R89: 16756 | S89: 3.132 | T89: 29644 | U89: 16.795 | V89: 20767 | W89: 0.436 | X89: 9912 | Y89: 40.43 | Z89: 4590 | AA89: 0.16 | AB89: 15419 | AC89: 0.204 | AD89: 11580
A90: E01000925 | B90: 00AGGQ | C90: Kentish Town | D90: 00AG | E90: Camden | F90: H | G90: London | H90: =RANK(K90,$K$7:$K$139,1) -> 21 | I90: 38.831 | K90: 4845 | L90: =K90/32844*100 -> 14.751553 | M90: 0.328 | N90: 2384 | O90: 0.204 | P90: 4835 | Q90: 0.711 | R90: 7006 | S90: 17.395 | T90: 15596 | U90: 31.296 | V90: 5978 | W90: 0.216 | X90: 13214 | Y90: 41.236 | Z90: 4346 | AA90: 0.411 | AB90: 2516 | AC90: 0.466 | AD90: 1209
A91: E01000926 | B91: 00AGGQ | C91: Kentish Town | D91: 00AG | E91: Camden | F91: H | G91: London | H91: =RANK(K91,$K$7:$K$139,1) -> 66 | I91: 23.933 | K91: 11476 | L91: =K91/32844*100 -> 34.940933 | M91: 0.191 | N91: 9021 | O91: 0.112 | P91: 13815 | Q91: 0.321 | R91: 11625 | S91: 9.513 | T91: 22347 | U91: 20.285 | V91: 16428 | W91: 0.656 | X91: 6931 | Y91: 40.201 | Z91: 4657 | AA91: 0.412 | AB91: 2497 | AC91: 0.361 | AD91: 3529
A92: E01000927 | B92: 00AGGQ | C92: Kentish Town | D92: 00AG | E92: Camden | F92: H | G92: London | H92: =RANK(K92,$K$7:$K$139,1) -> 73 | I92: 21.063 | K92: 13412 | L92: =K92/32844*100 -> 40.835465 | M92: 0.131 | N92: 14432 | O92: 0.099 | P92: 15954 | Q92: 0.199 | R92: 13236 | S92: 7.267 | T92: 24758 | U92: 13.134 | V92: 25304 | W92: 0.925 | X92: 4066 | Y92: 45.769 | Z92: 3155 | AA92: 0.235 | AB92: 10141 | AC92: 0.17 | AD92: 14466
A93: E01000928 | B93: 00AGGQ | C93: Kentish Town | D93: 00AG | E93: Camden | F93: H | G93: London | H93: =RANK(K93,$K$7:$K$139,1) -> 60 | I93: 26.122 | K93: 10216 | L93: =K93/32844*100 -> 31.104616 | M93: 0.192 | N93: 8885 | O93: 0.143 | P93: 9773 | Q93: 0.618 | R93: 8035 | S93: 5.575 | T93: 26684 | U93: 20.246 | V93: 16482 | W93: 0.594 | X93: 7756 | Y93: 40.714 | Z93: 4506 | AA93: 0.264 | AB93: 8502 | AC93: 0.269 | AD93: 7373
A94: E01000929 | B94: 00AGGR | C94: Kilburn | D94: 00AG | E94: Camden | F94: H | G94: London | H94: =RANK(K94,$K$7:$K$139,1) -> 40 | I94: 32.272 | J94: 36.078857 | K94: 7212 | L94: =K94/32844*100 -> 21.958349 | M94: 0.299 | N94: 3370 | O94: 0.158 | P94: 8268 | Q94: 0.181 | R94: 13480 | S94: 17.069 | T94: 15811 | U94: 26.875 | V94: 9262 | W94: 0.669 | X94: 6766 | Y94: 34.274 | Z94: 6854 | AA94: 0.384 | AB94: 3360 | AC94: 0.42 | AD94: 2026
A95: E01000930 | B95: 00AGGR | C95: Kilburn | D95: 00AG | E95: Camden | F95: H | G95: London | H95: =RANK(K95,$K$7:$K$139,1) -> 18 | I95: 39.142 | K95: 4763 | L95: =K95/32844*100 -> 14.501888 | M95: 0.307 | N95: 3079 | O95: 0.167 | P95: 7453 | Q95: 0.766 | R95: 6433 | S95: 20.512 | T95: 13411 | U95: 26.688 | V95: 9413 | W95: 0.921 | X95: 4100 | Y95: 51.185 | Z95: 2055 | AA95: 0.469 | AB95: 1265 | AC95: 0.447 | AD95: 1508
A96: E01000931 | B96: 00AGGR | C96: Kilburn | D96: 00AG | E96: Camden | F96: H | G96: London | H96: =RANK(K96,$K$7:$K$139,1) -> 9 | I96: 42.687 | K96: 3738 | L96: =K96/32844*100 -> 11.381074 | M96: 0.29 | N96: 3718 | O96: 0.183 | P96: 6175 | Q96: 0.704 | R96: 7073 | S96: 16.096 | T96: 16587 | U96: 31.106 | V96: 6084 | W96: 1.546 | X96: 641 | Y96: 54.044 | Z96: 1588 | AA96: 0.494 | AB96: 862 | AC96: 0.365 | AD96: 3400
A97: E01000932 | B97: 00AGGR | C97: Kilburn | D97: 00AG | E97: Camden | F97: H | G97: London | H97: =RANK(K97,$K$7:$K$139,1) -> 69 | I97: 22.843 | K97: 12166 | L97: =K97/32844*100 -> 37.041773 | M97: 0.196 | N97: 8611 | O97: 0.117 | P97: 12967 | Q97: 0.482 | R97: 9595 | S97: 7.957 | T97: 23990 | U97: 14.608 | V97: 23554 | W97: 0.366 | X97: 10890 | Y97: 37.722 | Z97: 5476 | AA97: 0.345 | AB97: 4764 | AC97: 0.448 | AD97: 1495
A98: E01000933 | B98: 00AGGR | C98: Kilburn | D98: 00AG | E98: Camden | F98: H | G98: London | H98: =RANK(K98,$K$7:$K$139,1) -> 42 | I98: 31.433 | K98: 7555 | L98: =K98/32844*100 -> 23.002679 | M98: 0.171 | N98: 10496 | O98: 0.149 | P98: 9088 | Q98: 0.674 | R98: 7419 | S98: 4.363 | T98: 28120 | U98: 15.721 | V98: 22142 | W98: 1.297 | X98: 1468 | Y98: 62.037 | Z98: 680 | AA98: 0.344 | AB98: 4780 | AC98: 0.265 | AD98: 7544
A99: E01000934 | B99: 00AGGR | C99: Kilburn | D99: 00AG | E99: Camden | F99: H | G99: London | H99: =RANK(K99,$K$7:$K$139,1) -> 11 | I99: 42.084 | K99: 3896 | L99: =K99/32844*100 -> 11.862136 | M99: 0.308 | N99: 3039 | O99: 0.198 | P99: 5145 | Q99: 1.293 | R99: 2561 | S99: 8.48 | T99: 23455 | U99: 34.902 | V99: 4064 | W99: 0.529 | X99: 8621 | Y99: 51.249 | Z99: 2045 | AA99: 0.425 | AB99: 2161 | AC99: 0.37 | AD99: 3230
A100: E01000935 | B100: 00AGGR | C100: Kilburn | D100: 00AG | E100: Camden | F100: H | G100: London | H100: =RANK(K100,$K$7:$K$139,1) -> 10 | I100: 42.091 | K100: 3894 | L100: =K100/32844*100 -> 11.856047 | M100: 0.354 | N100: 1669 | O100: 0.223 | P100: 3702 | Q100: 0.795 | R100: 6158 | S100: 12.357 | T100: 19699 | U100: 35.973 | V100: 3572 | W100: 0.255 | X100: 12616 | Y100: 39.07 | Z100: 5021 | AA100: 0.477 | AB100: 1120 | AC100: 0.447 | AD100: 1517
...

Sheet Maps
A1: Map of IMD 2015 (with 2010, 2007 and 2004 shown beneath for comparison)

Sheet Ward Summary
A1: Indices of Deprivation 2015
A2: © Department for Communities & Local Government, 30 September 2015
A3: WARD NAME | B3: IMD 2015 Average of LSOA Scores | C3: IMD 2015 Rank in Camden | D3: No. of LSOAs within 10% most deprived LSOAs in England | E3: No. of LSOAs within 20% most deprived LSOAs in England | F3: IDACI 2015 Score | G3: IDACI 2015 Rank in Camden | H3: IDAOPI 2015 Score | I3: IDAOPI 2015 Rank in Camden
A4: Belsize | B4: 15.544625 | C4: =RANK(B4,B$4:B$21) -> 16 | D4: =COUNTIFS('Camden LSOAs by ward 2015'!$L$7:$L$14,"<10") -> 0 | E4: =COUNTIFS('Camden LSOAs by ward 2015'!$L$7:$L$14,"<20") -> 0 | F4: 0.160625 | G4: =RANK(F4,F$4:F$21) -> 16 | H4: 0.1715 | I4: =RANK(H4,H$4:H$21) -> 16
A5: Bloomsbury | B5: 21.0795 | C5: =RANK(B5,B$4:B$21) -> 13 | D5: =COUNTIFS('Camden LSOAs by ward 2015'!$L$15:$L$20,"<10") -> 0 | E5: =COUNTIFS('Camden LSOAs by ward 2015'!$L$15:$L$20,"<20") -> 1 | F5: 0.172 | G5: =RANK(F5,F$4:F$21) -> 15 | H5: 0.23483333 | I5: =RANK(H5,H$4:H$21) -> 12
A6: Camden Town with Primrose Hill | B6: 27.355125 | C6: =RANK(B6,B$4:B$21) -> 8 | D6: =COUNTIFS('Camden LSOAs by ward 2015'!$L$21:$L$28,"<10") -> 1 | E6: =COUNTIFS('Camden LSOAs by ward 2015'!$L$21:$L$28,"<20") -> 4 | F6: 0.24875 | G6: =RANK(F6,F$4:F$21) -> 11 | H6: 0.280625 | I6: =RANK(H6,H$4:H$21) -> 10
A7: Cantelowes | B7: 31.808 | C7: =RANK(B7,B$4:B$21) -> 3 | D7: =COUNTIFS('Camden LSOAs by ward 2015'!$L$29:$L$35,"<10") -> 1 | E7: =COUNTIFS('Camden LSOAs by ward 2015'!$L$29:$L$35,"<20") -> 3 | F7: 0.28385714 | G7: =RANK(F7,F$4:F$21) -> 7 | H7: 0.31857143 | I7: =RANK(H7,H$4:H$21) -> 5
A8: Fortune Green | B8: 20.055286 | C8: =RANK(B8,B$4:B$21) -> 14 | D8: =COUNTIFS('Camden LSOAs by ward 2015'!$L$36:$L$42,"<10") -> 0 | E8: =COUNTIFS('Camden LSOAs by ward 2015'!$L$36:$L$42,"<20") -> 1 | F8: 0.20885714 | G8: =RANK(F8,F$4:F$21) -> 13 | H8: 0.22014286 | I8: =RANK(H8,H$4:H$21) -> 13
A9: Frognal and Fitzjohns | B9: 10.04075 | C9: =RANK(B9,B$4:B$21) -> 17 | D9: =COUNTIFS('Camden LSOAs by ward 2015'!$L$43:$L$50,"<10") -> 0 | E9: =COUNTIFS('Camden LSOAs by ward 2015'!$L$43:$L$50,"<20") -> 0 | F9: 0.059375 | G9: =RANK(F9,F$4:F$21) -> 17 | H9: 0.109 | I9: =RANK(H9,H$4:H$21) -> 18
A10: Gospel Oak | B10: 30.728714 | C10: =RANK(B10,B$4:B$21) -> 5 | D10: =COUNTIFS('Camden LSOAs by ward 2015'!$L$51:$L$57,"<10") -> 2 | E10: =COUNTIFS('Camden LSOAs by ward 2015'!$L$51:$L$57,"<20") -> 3 | F10: 0.305 | G10: =RANK(F10,F$4:F$21) -> 5 | H10: 0.28714286 | I10: =RANK(H10,H$4:H$21) -> 9
A11: Hampstead Town | B11: 9.9602857 | C11: =RANK(B11,B$4:B$21) -> 18 | D11: =COUNTIFS('Camden LSOAs by ward 2015'!$L$58:$L$64,"<10") -> 0 | E11: =COUNTIFS('Camden LSOAs by ward 2015'!$L$58:$L$64,"<20") -> 0 | F11: 0.054428571 | G11: =RANK(F11,F$4:F$21) -> 18 | H11: 0.11471429 | I11: =RANK(H11,H$4:H$21) -> 17
A12: Haverstock | B12: 31.664714 | C12: =RANK(B12,B$4:B$21) -> 4 | D12: =COUNTIFS('Camden LSOAs by ward 2015'!$L$65:$L$71,"<10") -> 0 | E12: =COUNTIFS('Camden LSOAs by ward 2015'!$L$65:$L$71,"<20") -> 4 | F12: 0.35814286 | G12: =RANK(F12,F$4:F$21) -> 3 | H12: 0.33428571 | I12: =RANK(H12,H$4:H$21) -> 4
A13: Highgate | B13: 21.222429 | C13: =RANK(B13,B$4:B$21) -> 12 | D13: =COUNTIFS('Camden LSOAs by ward 2015'!$L$72:$L$78,"<10") -> 0 | E13: =COUNTIFS('Camden LSOAs by ward 2015'!$L$72:$L$78,"<20") -> 1 | F13: 0.21385714 | G13: =RANK(F13,F$4:F$21) -> 12 | H13: 0.18371429 | I13: =RANK(H13,H$4:H$21) -> 15
A14: Holborn and Covent Garden | B14: 26.946714 | C14: =RANK(B14,B$4:B$21) -> 9 | D14: =COUNTIFS('Camden LSOAs by ward 2015'!$L$79:$L$85,"<10") -> 1 | E14: =COUNTIFS('Camden LSOAs by ward 2015'!$L$79:$L$85,"<20") -> 1 | F14: 0.30357143 | G14: =RANK(F14,F$4:F$21) -> 6 | H14: 0.29385714 | I14: =RANK(H14,H$4:H$21) -> 8
A15: Kentish Town | B15: 25.83125 | C15: =RANK(B15,B$4:B$21) -> 10 | D15: =COUNTIFS('Camden LSOAs by ward 2015'!$L$86:$L$93,"<10") -> 0 | E15: =COUNTIFS('Camden LSOAs by ward 2015'!$L$86:$L$93,"<20") -> 1 | F15: 0.28175 | G15: =RANK(F15,F$4:F$21) -> 8 | H15: 0.298 | I15: =RANK(H15,H$4:H$21) -> 7
A16: Kilburn | B16: 36.078857 | C16: =RANK(B16,B$4:B$21) -> 2 | D16: =COUNTIFS('Camden LSOAs by ward 2015'!$L$94:$L$100,"<10") -> 0 | E16: =COUNTIFS('Camden LSOAs by ward 2015'!$L$94:$L$100,"<20") -> 4 | F16: 0.41971429 | G16: =RANK(F16,F$4:F$21) -> 2 | H16: 0.39457143 | I16: =RANK(H16,H$4:H$21) -> 2
A17: King's Cross | B17: 29.444875 | C17: =RANK(B17,B$4:B$21) -> 7 | D17: =COUNTIFS('Camden LSOAs by ward 2015'!$L$101:$L$108,"<10") -> 1 | E17: =COUNTIFS('Camden LSOAs by ward 2015'!$L$101:$L$108,"<20") -> 3 | F17: 0.265375 | G17: =RANK(F17,F$4:F$21) -> 10 | H17: 0.30825 | I17: =RANK(H17,H$4:H$21) -> 6
A18: Regent's Park | B18: 29.5155 | C18: =RANK(B18,B$4:B$21) -> 6 | D18: =COUNTIFS('Camden LSOAs by ward 2015'!$L$109:$L$116,"<10") -> 0 | E18: =COUNTIFS('Camden LSOAs by ward 2015'!$L$109:$L$116,"<20") -> 2 | F18: 0.342 | G18: =RANK(F18,F$4:F$21) -> 4 | H18: 0.384375 | I18: =RANK(H18,H$4:H$21) -> 3
A19: St Pancras and Somers Town | B19: 38.751 | C19: =RANK(B19,B$4:B$21) -> 1 | D19: =COUNTIFS('Camden LSOAs by ward 2015'!$L$117:$L$124,"<10") -> 1 | E19: =COUNTIFS('Camden LSOAs by ward 2015'!$L$117:$L$124,"<20") -> 7 | F19: 0.433 | G19: =RANK(F19,F$4:F$21) -> 1 | H19: 0.411375 | I19: =RANK(H19,H$4:H$21) -> 1
A20: Swiss Cottage | B20: 16.8735 | C20: =RANK(B20,B$4:B$21) -> 15 | D20: =COUNTIFS('Camden LSOAs by ward 2015'!$L$125:$L$132,"<10") -> 0 | E20: =COUNTIFS('Camden LSOAs by ward 2015'!$L$125:$L$132,"<20") -> 0 | F20: 0.18725 | G20: =RANK(F20,F$4:F$21) -> 14 | H20: 0.184875 | I20: =RANK(H20,H$4:H$21) -> 14
A21: West Hampstead | B21: 21.646286 | C21: =RANK(B21,B$4:B$21) -> 11 | D21: =COUNTIFS('Camden LSOAs by ward 2015'!$L$133:$L$139,"<10") -> 0 | E21: =COUNTIFS('Camden LSOAs by ward 2015'!$L$133:$L$139,"<20") -> 1 | F21: 0.26842857 | G21: =RANK(F21,F$4:F$21) -> 9 | H21: 0.25885714 | I21: =RANK(H21,H$4:H$21) -> 11
A22: LB Camden | B22: =AVERAGE('Camden LSOAs by ward 2015'!I7:I139) -> 24.692549 | D22: =SUM(D4:D21) -> 7 | E22: =SUM(E4:E21) -> 36
A24: Notes
A25: IMD = Index of Multiple Deprivation 2015
A26: IDACI = Income Deprivation Affecting Children Index
A27: IDAOPI = Income Deprivation Affecting Older People Index

Sheet Deciles
A1: Deciles for ranks
A3: 10 | B3: =A3/100*$B$12 -> 3284.4
A4: 20 | B4: =A4/100*$B$12 -> 6568.8
A5: 30 | B5: =A5/100*$B$12 -> 9853.2
A6: 40 | B6: =A6/100*$B$12 -> 13137.6
A7: 50 | B7: =A7/100*$B$12 -> 16422
A8: 60 | B8: =A8/100*$B$12 -> 19706.4
A9: 70 | B9: =A9/100*$B$12 -> 22990.8
A10: 80 | B10: =A10/100*$B$12 -> 26275.2
A11: 90 | B11: =A11/100*$B$12 -> 29559.6
A12: 100 | B12: 32844
